BEGIN:VCALENDAR
VERSION:2.0
PRODID:-//ChamberMaster//Event Calendar 2.0//EN
METHOD:PUBLISH
X-PUBLISHED-TTL:P3D
REFRESH-INTERVAL:P3D
CALSCALE:GREGORIAN
BEGIN:VEVENT
DTSTART:20260424T230000Z
DTEND:20260425T000000Z
X-MICROSOFT-CDO-ALLDAYEVENT:FALSE
SUMMARY:Northern Middle School Presents "Dare to Dream\, Jr."
DESCRIPTION:Celebrate 100 years of Disney music with this fun and breathtaking musical revue!\n\nDisney's Dare to Dream JR. is a 60-minute musical revue that follows an eager group of trainees on their first day at a fictional Walt Disney Imagineering Studio. As the group sets out to help each other discover their dreams\, they work together to explore the power of dreams to unite\, inspire\, and make anything possible. Drawing from a century of beloved Disney films\, Dare to Dream JR. features songs appearing for the first time ever in a Disney stage musical\, including fan-favorites from The Princess and the Frog\, Coco\, Encanto\, and Frozen II. This musical revue is a thrilling mix of contemporary songs\, timeless classics\, and brand-new medleys that are sure to surprise and delight Disney lovers of all ages.\n\nDesigned specifically for today's young performers and full of opportunities for ensembles big and small\, Dare to Dream JR. turns a century of Disney magic into a theatrical celebration of music\, creativity\, and the dreams that live inside us all.
X-ALT-DESC;FMTTYPE=text/html:<p>Celebrate 100 years of Disney music with this fun and breathtaking musical revue!</p>\n\n<p>Disney&rsquo\;s&nbsp\;<em>Dare to Dream JR.</em>&nbsp\;is a 60-minute musical revue that follows an eager group of trainees on their first day at a fictional Walt Disney Imagineering Studio. As the group sets out to help each other discover their dreams\, they work together to explore the power of dreams to unite\, inspire\, and make anything possible. Drawing from a century of beloved Disney films\,&nbsp\;<em>Dare to Dream JR.</em>&nbsp\;features songs appearing for the first time ever in a Disney stage musical\, including fan-favorites from&nbsp\;<em>The Princess and the Frog\, Coco\, Encanto\,</em>&nbsp\;and&nbsp\;<em>Frozen II</em>. This musical revue is a thrilling mix of contemporary songs\, timeless classics\, and brand-new medleys that are sure to surprise and delight Disney lovers of all ages.</p>\n\n<p>Designed specifically for today&rsquo\;s young performers and full of opportunities for ensembles big and small\,&nbsp\;<em>Dare to Dream JR.</em>&nbsp\;turns a century of Disney magic into a theatrical celebration of music\, creativity\, and the dreams that live inside us all.</p>\n
LOCATION:Performing Arts Center at Garrett College 687 Mosser Road McHenry\, MD 21541
UID:e.847.46447
SEQUENCE:3
DTSTAMP:20260421T025033Z
URL:https://members.visitdeepcreek.com/events/details/northern-middle-school-presents-dare-to-dream-jr-46447
END:VEVENT

END:VCALENDAR
