BEGIN:VCALENDAR
VERSION:2.0
PRODID:-//ChamberMaster//Event Calendar 2.0//EN
METHOD:PUBLISH
X-PUBLISHED-TTL:P3D
REFRESH-INTERVAL:P3D
CALSCALE:GREGORIAN
BEGIN:VEVENT
DTSTART;VALUE=DATE:20211231
DTEND;VALUE=DATE:20220101
TRANSP:TRANSPARENT
X-MICROSOFT-CDO-ALLDAYEVENT:TRUE
SUMMARY:New Year's Eve Celebration at or from the Deer Park Inn
DESCRIPTION:Celebrate New Year's Eve at the Deer Park Inn or in the comfort of your home with a take out\n\n Just give us a call at 301 334 2308\n\n \nGinger Scented Chicken Consomme with Shrimp Dumpling\n\n~~~\n\nRoasted Apple Butternut Squash Soup\n\n~~~\n\nMushroom and Feta Spinakopita Salad.\n\n~~~\n\nCarpaccio of Orange and Red Beet Salad with Goat Cheese.\n\n~~~\n\nPeppery Yellow Fin Tuna with Tangerine Beurre Blanc.\n\n~~~\n\nOsso Bucco Milanese with Saffron Risotto.\n\n~~~\n\nTournedo of Beef Tenderloin Rossini with Saute Foie Gras.\n\n~~~\n\nLemon Macadamia Crusted Butternut Squash with Caramelized Crandberries\n\n~~~\n\nBittersweet Chocolate Mousse\n\n~~~\n\nVanilla Creme Brulee with Raspberry\n\n~~~\n\nWarm Apple Thin Tartlett.\n\n \n\nGluten Free\, Dairy Free\, Vegan are welcome just let us know ahead of time
X-ALT-DESC;FMTTYPE=text/html:<br />\nCelebrate New Year&#39\;s Eve at the Deer Park Inn or in the comfort of your home with a take out<br />\n&nbsp\;Just give us a call at 301 334 2308<br />\n&nbsp\;\n<p>Ginger Scented Chicken Consomme with Shrimp Dumpling</p>\n\n<p>~~~</p>\n\n<p>Roasted Apple Butternut Squash Soup</p>\n\n<p>~~~</p>\n\n<p>Mushroom and Feta Spinakopita Salad.</p>\n\n<p>~~~</p>\n\n<p>Carpaccio of Orange and Red Beet Salad with Goat Cheese.</p>\n\n<p>~~~</p>\n\n<p>Peppery Yellow Fin Tuna with Tangerine Beurre Blanc.</p>\n\n<p>~~~</p>\n\n<p>Osso Bucco Milanese with Saffron Risotto.</p>\n\n<p>~~~</p>\n\n<p>Tournedo of Beef Tenderloin Rossini with Saute Foie Gras.</p>\n\n<p>~~~</p>\n\n<p>Lemon Macadamia Crusted Butternut Squash with Caramelized Crandberries</p>\n\n<p>~~~</p>\n\n<p>Bittersweet Chocolate Mousse</p>\n\n<p>~~~</p>\n\n<p>Vanilla Creme Brulee with Raspberry</p>\n\n<p>~~~</p>\n\n<p>Warm Apple Thin Tartlett.</p>\n\n<p>&nbsp\;</p>\n\n<p>Gluten Free\, Dairy Free\, Vegan are welcome just let us know ahead of time</p>\n
LOCATION:
UID:e.847.36721
SEQUENCE:3
DTSTAMP:20260420T220820Z
URL:https://members.visitdeepcreek.com/events/details/new-year-s-eve-celebration-at-or-from-the-deer-park-inn-36721
END:VEVENT

END:VCALENDAR
