BEGIN:VCALENDAR
VERSION:2.0
PRODID:-//ChamberMaster//Event Calendar 2.0//EN
METHOD:PUBLISH
X-PUBLISHED-TTL:P3D
REFRESH-INTERVAL:P3D
CALSCALE:GREGORIAN
BEGIN:VEVENT
DTSTART:20220522T170000Z
DTEND:20220522T200000Z
X-MICROSOFT-CDO-ALLDAYEVENT:FALSE
SUMMARY:Native PLant Expo and Open House
DESCRIPTION:Free! Join us for our yearly spring event! Purchase native plants\, herbs and more to plant and use in your garden and everyday living. Place your order for Evergreen's native plants as well as culinary and medicinal herbs online and pick-up at the event.\n\nThe day will include:\n\n\n	Native Plant Sale: Your favorites and some new selections!\n	Tours of the Evergreen Farmhouse\, Agricultural Museum\, and Miners' Coal Museum\n	Vendor displays and demonstrations\n	Kids Crafts and Activities\n	Baked Goods and Evergreen Cupboard gift items\n\n**Out-of-County Event**
X-ALT-DESC;FMTTYPE=text/html:<p>Free! Join us for our yearly spring event! Purchase native plants\, herbs and more to plant and use in your garden and everyday living. Place your order for Evergreen&rsquo\;s native plants as well as culinary and medicinal herbs online and pick-up at the event.</p>\n\n<p>The day will include:</p>\n\n<ul>\n	<li>Native Plant Sale: Your favorites and some new selections!</li>\n	<li>Tours of the Evergreen Farmhouse\, Agricultural Museum\, and Miners&rsquo\; Coal Museum</li>\n	<li>Vendor displays and demonstrations</li>\n	<li>Kids Crafts and Activities</li>\n	<li>Baked Goods and Evergreen Cupboard gift items</li>\n</ul>\n<span style="color:#FF0000\;"><strong>**Out-of-County Event**</strong></span>
LOCATION:Evergreen Heritage Center 15603 Trimble Road NW Mount Savage\, MD 21545
UID:e.847.36818
SEQUENCE:3
DTSTAMP:20260420T141303Z
URL:https://members.visitdeepcreek.com/events/details/native-plant-expo-and-open-house-36818
END:VEVENT

END:VCALENDAR
