BEGIN:VCALENDAR
VERSION:2.0
PRODID:-//ChamberMaster//Event Calendar 2.0//EN
METHOD:PUBLISH
X-PUBLISHED-TTL:P3D
REFRESH-INTERVAL:P3D
CALSCALE:GREGORIAN
BEGIN:VEVENT
DTSTART;VALUE=DATE:20220430
DTEND;VALUE=DATE:20220509
TRANSP:TRANSPARENT
X-MICROSOFT-CDO-ALLDAYEVENT:TRUE
SUMMARY:"My Iconic Maryland" Scavenger Hunt
DESCRIPTION:Take a selfie with at least six icons listed below between Saturday\, April 30 to Sunday\, May 8\, and be entered to win a prize at random. Winners will be announced Thursday\, May 12. Enter to win by using #NTTW22MTC and #TourismWorks4MD on Facebook or Instagram. Winners will be contacted by direct message. By submitting your photos\, you are granting MTC permission to use for future marketing purposes.\n\n\n\n1. Black Eyed Susan\n\n2. Crabs\n\n3. Smith Island Cake\n\n4. Cows & Dairy Farms\n\n5. Horse\n\n6. Maryland Flag\n\n7. Lighthouse\n\n8. Oriole Bird\n\n9. Skipjack\n\n10. Orange Crush\n\n\n\nClick here for more information.
X-ALT-DESC;FMTTYPE=text/html:Take a selfie with at least six icons listed below between Saturday\, April 30 to Sunday\, May 8\, and be entered to win a prize at random. Winners will be announced Thursday\, May 12. Enter to win by using #NTTW22MTC and #TourismWorks4MD on Facebook or Instagram. Winners will be contacted by direct message. By submitting your photos\, you are granting MTC permission to use for future marketing purposes.<br />\n<br />\n1. Black Eyed Susan<br />\n2. Crabs<br />\n3. Smith Island Cake<br />\n4. Cows &amp\; Dairy Farms<br />\n5. Horse<br />\n6. Maryland Flag<br />\n7. Lighthouse<br />\n8. Oriole Bird<br />\n9. Skipjack<br />\n10. Orange Crush<br />\n<br />\nClick <a href="https://files.constantcontact.com/38e5557c001/80adf107-c9dd-43d5-89a8-3bba0e463077.pdf?rdr=true">here</a> for more information.&nbsp\;
LOCATION:
UID:e.847.37151
SEQUENCE:3
DTSTAMP:20260420T141350Z
URL:https://members.visitdeepcreek.com/events/details/my-iconic-maryland-scavenger-hunt-37151
END:VEVENT

END:VCALENDAR
