BEGIN:VCALENDAR
VERSION:2.0
PRODID:-//ChamberMaster//Event Calendar 2.0//EN
METHOD:PUBLISH
X-PUBLISHED-TTL:P3D
REFRESH-INTERVAL:P3D
CALSCALE:GREGORIAN
BEGIN:VEVENT
DTSTART:20220410T180000Z
DTEND:20220410T200000Z
X-MICROSOFT-CDO-ALLDAYEVENT:FALSE
SUMMARY:"Moxie A Happenstance Vaudeville" by Happenstance Theatre
DESCRIPTION:A theatrical collage inspired by the Great Age of Vaudeville\, infused with the joys and struggles of its performers' lives. In homage to the style and spirit of this immensely popular theatre from the late 19th Century\, Happenstance Theater brings old Vaudeville back.
X-ALT-DESC;FMTTYPE=text/html:<span style="background-color:rgb(255\, 255\, 255)\; font-family:open sans\,arial\,sans-serif\; font-size:16px">A theatrical collage inspired by the Great Age of Vaudeville\, infused with the joys and struggles of its performers&rsquo\; lives. In homage to the style and spirit of this immensely popular theatre from the late 19th Century\, Happenstance Theater brings old Vaudeville back.</span>
LOCATION:Garrett College Auditorium
UID:e.847.36689
SEQUENCE:3
DTSTAMP:20260420T171832Z
URL:https://members.visitdeepcreek.com/events/details/moxie-a-happenstance-vaudeville-by-happenstance-theatre-36689
END:VEVENT

END:VCALENDAR
