BEGIN:VCALENDAR
VERSION:2.0
PRODID:-//ChamberMaster//Event Calendar 2.0//EN
METHOD:PUBLISH
X-PUBLISHED-TTL:P3D
REFRESH-INTERVAL:P3D
CALSCALE:GREGORIAN
BEGIN:VEVENT
DTSTART:20220514T140000Z
DTEND:20220514T190000Z
X-MICROSOFT-CDO-ALLDAYEVENT:FALSE
SUMMARY:Mountain Maryland Native Plant Festival
DESCRIPTION:Discover the connection between native plants\, people\, & wildlife! Native Plant Sale - Wood Thrush Native Plant Nursery / Tree Talk Natives / Evergreen Heritage Center / Friends of New Germany Local Artisans - Peggy Nixon Designs / Marta Fiscus Photography / Appalachian Wax Works Conservation Groups - Garrett Trails / MCC / Trout Unlimited / MNPS / University of MD\, Garrett County Master Gardeners PLUS - Expert Speakers\, Nature Walks\, & Family Activities Purchase drinks & snacks at the festival OR pack a picnic lunch!
X-ALT-DESC;FMTTYPE=text/html:Discover the connection between native plants\, people\, &amp\; wildlife! Native Plant Sale - Wood Thrush Native Plant Nursery / Tree Talk Natives / Evergreen Heritage Center / Friends of New Germany Local Artisans - Peggy Nixon Designs / Marta Fiscus Photography / Appalachian Wax Works Conservation Groups - Garrett Trails / MCC / Trout Unlimited / MNPS / University of MD\, Garrett County Master Gardeners PLUS - Expert Speakers\, Nature Walks\, &amp\; Family Activities Purchase drinks &amp\; snacks at the festival OR pack a picnic lunch!
LOCATION:New Germany State Park
UID:e.847.36800
SEQUENCE:3
DTSTAMP:20260420T155456Z
URL:https://members.visitdeepcreek.com/events/details/mountain-maryland-native-plant-festival-05-14-2022-36800
END:VEVENT

END:VCALENDAR
