BEGIN:VCALENDAR
VERSION:2.0
PRODID:-//ChamberMaster//Event Calendar 2.0//EN
METHOD:PUBLISH
X-PUBLISHED-TTL:P3D
REFRESH-INTERVAL:P3D
CALSCALE:GREGORIAN
BEGIN:VEVENT
DTSTART:20220319T150000Z
DTEND:20220319T170000Z
X-MICROSOFT-CDO-ALLDAYEVENT:FALSE
SUMMARY:Mountain Fresh Winter Market
DESCRIPTION:Farmer's Markets are the best way to support your community! You can help create a healthier local economy by the way YOU use your purchasing power!
X-ALT-DESC;FMTTYPE=text/html:<span style="background-color:rgb(255\, 255\, 255)\; color:rgb(36\, 28\, 21)\; font-family:graphik web\,helvetica neue\,helvetica\,arial\,verdana\,sans-serif\; font-size:14px">Farmer&#39\;s Markets are the best way to support your community! You can help create a healthier local economy by the way YOU use your purchasing power!&nbsp\;</span>
LOCATION:$MART ART: Shared workspace\, connected to the Gallery Shop at 108 S. 2nd Street in Oakland\, MD
UID:e.847.36763
SEQUENCE:3
DTSTAMP:20260420T172411Z
URL:https://members.visitdeepcreek.com/events/details/mountain-fresh-winter-market-03-19-2022-36763
END:VEVENT

END:VCALENDAR
