BEGIN:VCALENDAR
VERSION:2.0
PRODID:-//ChamberMaster//Event Calendar 2.0//EN
METHOD:PUBLISH
X-PUBLISHED-TTL:P3D
REFRESH-INTERVAL:P3D
CALSCALE:GREGORIAN
BEGIN:VEVENT
DTSTART:20220508T150000Z
DTEND:20220508T190000Z
X-MICROSOFT-CDO-ALLDAYEVENT:FALSE
SUMMARY:Mother's Day Brunch Buffet at Wisp
DESCRIPTION:Join us this Mother's Day in the McHenry Lodge for a delicious buffet to celebrate Mom and Grandma! Reservations are required and will be taken through our Reservations Team at 855.990.0304. Time slots available: 11am\, 12pm\, 1pm\, & 2pm. Complimentary Mimosa and Rose for Mom!
X-ALT-DESC;FMTTYPE=text/html:Join us this Mother&#39\;s Day in the McHenry Lodge for a delicious buffet to celebrate Mom and Grandma! Reservations are required and will be taken through our Reservations Team at 855.990.0304. Time slots available: 11am\, 12pm\, 1pm\, &amp\; 2pm. Complimentary Mimosa and Rose for Mom!
LOCATION:Wisp Resort McHenry Lodge
UID:e.847.37145
SEQUENCE:3
DTSTAMP:20260420T141258Z
URL:https://members.visitdeepcreek.com/events/details/mother-s-day-brunch-buffet-at-wisp-37145
END:VEVENT

END:VCALENDAR
