BEGIN:VCALENDAR
VERSION:2.0
PRODID:-//ChamberMaster//Event Calendar 2.0//EN
METHOD:PUBLISH
X-PUBLISHED-TTL:P3D
REFRESH-INTERVAL:P3D
CALSCALE:GREGORIAN
BEGIN:VEVENT
DTSTART;VALUE=DATE:20220508
DTEND;VALUE=DATE:20220509
TRANSP:TRANSPARENT
X-MICROSOFT-CDO-ALLDAYEVENT:TRUE
SUMMARY:Mother's Day at Cornucopia
DESCRIPTION:Cheers to mom! The Cornucopia Caf  and Chef Martin Galloway CEC will be open to celebrate Mother's Day with a family style meal (replenished upon request!). A la carte beverages include Mimosas\, a selection of Ros  wines\, and specialty cocktails. Reservations are essential\, secure via our website: http://www.thecornucopiacafe.com/mothersday
X-ALT-DESC;FMTTYPE=text/html:<div>\n<p>Cheers to mom! The Cornucopia Caf&eacute\; and Chef Martin Galloway CEC will be open to celebrate Mother&#39\;s Day with a family style meal (replenished upon request!). A la carte beverages include Mimosas\, a selection of Ros&eacute\; wines\, and specialty cocktails. Reservations are essential\, secure via our website: http://www.thecornucopiacafe.com/mothersday</p>\n</div>\n\n<div>\n<div>&nbsp\;</div>\n</div>\n
LOCATION:The Cornucopia Cafe 146 Casselman Rd. Grantsville MD 21536
UID:e.847.37150
SEQUENCE:3
DTSTAMP:20260420T141851Z
URL:https://members.visitdeepcreek.com/events/details/mother-s-day-at-cornucopia-37150
END:VEVENT

END:VCALENDAR
