BEGIN:VCALENDAR
VERSION:2.0
PRODID:-//ChamberMaster//Event Calendar 2.0//EN
METHOD:PUBLISH
X-PUBLISHED-TTL:P3D
REFRESH-INTERVAL:P3D
CALSCALE:GREGORIAN
BEGIN:VEVENT
DTSTART:20220815T150000Z
DTEND:20220818T180000Z
X-MICROSOFT-CDO-ALLDAYEVENT:FALSE
SUMMARY:Mixed Media Art Camp
DESCRIPTION:Develop your creativity and knowledge of art concepts through the use of different art medium! Make a 2D object look 3D\, create a 3D sculpture\, draw a landscape\, and paint a character or animal. For students entering grades 7-12.
X-ALT-DESC;FMTTYPE=text/html:Develop your creativity and knowledge of art concepts through the use of different art medium! Make a 2D object look 3D\, create a 3D sculpture\, draw a landscape\, and paint a character or animal. For students entering grades 7-12.
LOCATION:Sylvan of Garrett County 23789 Garrett Hwy\, Suite 3 McHenry\, MD 21541
UID:e.847.37233
SEQUENCE:3
DTSTAMP:20260420T110039Z
URL:https://members.visitdeepcreek.com/events/details/mixed-media-art-camp-37233
END:VEVENT

END:VCALENDAR
