BEGIN:VCALENDAR
VERSION:2.0
PRODID:-//ChamberMaster//Event Calendar 2.0//EN
METHOD:PUBLISH
X-PUBLISHED-TTL:P3D
REFRESH-INTERVAL:P3D
CALSCALE:GREGORIAN
BEGIN:VEVENT
DTSTART:20210828T160000Z
DTEND:20210828T200000Z
X-MICROSOFT-CDO-ALLDAYEVENT:FALSE
SUMMARY:Meshach Browning Pioneer Challenge
DESCRIPTION:Do you have what it takes to survive as a pioneer? Teams of 4 will test their pioneer-era skills in competitions like ax-throwing\, archery\, water-carrying\, fire-starting and more!
X-ALT-DESC;FMTTYPE=text/html:<span style="color:#000000"><span style="font-family:segoe ui historic\,segoe ui\,helvetica\,arial\,sans-serif\; font-size:15px">Do you have what it takes to survive as a pioneer? Teams of 4 will test their pioneer-era skills in competitions like ax-throwing\, archery\, water-carrying\, fire-starting and more!</span></span>
LOCATION:1249 Bumble Bee Rd
UID:e.847.33468
SEQUENCE:3
DTSTAMP:20260421T045314Z
URL:https://members.visitdeepcreek.com/events/details/meshach-browning-pioneer-challenge-33468
END:VEVENT

END:VCALENDAR
