BEGIN:VCALENDAR
VERSION:2.0
PRODID:-//ChamberMaster//Event Calendar 2.0//EN
METHOD:PUBLISH
X-PUBLISHED-TTL:P3D
REFRESH-INTERVAL:P3D
CALSCALE:GREGORIAN
BEGIN:VEVENT
DTSTART:20210531T160000Z
DTEND:20210531T220000Z
X-MICROSOFT-CDO-ALLDAYEVENT:FALSE
SUMMARY:Memorial Day Mini Cornhole Tournament at A Mountain Fix Boutique (MOVED TO MON)
DESCRIPTION:Mini Cornhole Tournament at A Mountain Fix Boutique\n\nHelp us celebrate Memorial Day! Our Tournament will take place outside A Mountain Fix at Noon on May 31st\, 2021. $5 entry fee per player  each player will receive a $5 gift. Registration begins at 11AM.  \n\n\n\nOverall winner will receive a mini-cornhole set. Depending on the number of players we will fill 8 or 16 spot brackets. We need 8 players/teams for the tournament to take place.  If we have only one player on a team they will play both sides of the boards (normally one player throwing each way).\n\n\n\nFor more information or questions contact A Mountain Fix via email at info@amountainfix.com. Matches will be held outside A Mountain Fix at the Fort.\n\n\n\nStop in and visit us for unique gifts and the area's largest sterling silver jewelry collection!\n\nBe sure to LIKE/FOLLOW for the latest updates!  https://www.facebook.com/AMountainFix
X-ALT-DESC;FMTTYPE=text/html:<h1><strong><span style="color:black"><span style="font-family:tahoma\,sans-serif"><span style="font-size:15.0pt">Mini Cornhole Tournament at A Mountain Fix Boutique</span></span></span></strong></h1>\n\n<div>Help us celebrate Memorial Day! Our Tournament will take place outside A Mountain Fix at Noon on May 31st\, 2021. $5 entry fee per player&ndash\; each player will receive a $5 gift. Registration begins at 11AM.&nbsp\;&nbsp\;<br />\n<br />\nOverall winner will receive a mini-cornhole set. Depending on the number of players we will fill 8 or 16 spot brackets. We need 8 players/teams for the tournament to take place.&nbsp\; If we have only one player on a team they will play both sides of the boards (normally one player throwing each way).<br />\n<br />\nFor more information or questions contact A Mountain Fix via email at info@amountainfix.com. Matches will be held outside A Mountain Fix at the Fort.<br />\n<br />\nStop in and visit us for unique gifts and the area&#39\;s largest sterling silver jewelry collection!<br />\nBe sure to LIKE/FOLLOW for the latest updates!<span style="font-family:verdana">&nbsp\;&nbsp\;<a href="https://www.facebook.com/AMountainFix" style="font-family: &quot\;comic sans ms&quot\;\;" target="_blank">https://www.facebook.com/AMountainFix</a></span></div>\n<br />\n<br />\n<br />\n&nbsp\;
LOCATION:1550-G Deep Creek Drive\, McHenry\, MD 21541
UID:e.847.34460
SEQUENCE:3
DTSTAMP:20260421T094052Z
URL:https://members.visitdeepcreek.com/events/details/memorial-day-sat-mini-cornhole-tournament-at-a-mountain-fix-boutique-34460
END:VEVENT

END:VCALENDAR
