BEGIN:VCALENDAR
VERSION:2.0
PRODID:-//ChamberMaster//Event Calendar 2.0//EN
METHOD:PUBLISH
X-PUBLISHED-TTL:P3D
REFRESH-INTERVAL:P3D
CALSCALE:GREGORIAN
BEGIN:VEVENT
DTSTART:20220512T213000Z
DTEND:20220512T233000Z
X-MICROSOFT-CDO-ALLDAYEVENT:FALSE
SUMMARY:May Business After Hours 2022
DESCRIPTION:The Chamber is pleased to announce that Firewater Kitchen & Bar will be hosting our May Business After Hours on Thursday\, May 12th from 5:30 pm - 7:30 pm. \n\n\n\nFirewater Kitchen & Bar is a premier destination for fresh-made craft cocktails and craft beers and exceptional dining. With its rustic emphasis on natural wood\, stone\, fireplaces and expansive views\, Firewater offers you great food\, a custom drink menu and exceptional service in a relaxed and contemporary atmosphere.\n\n\n\nFirewater joins Ace's Run\, Brenda's Pizzeria and Trader's Coffee House\, a locally owned and operated family of restaurants\, as your new neighborhood hangout. \n\n\n\nEnjoy delicious food and drinks as you mingle with fellow Chamber members and Chamber staff at our monthly networking events. Don't forget your business card to enter to win prizes.
X-ALT-DESC;FMTTYPE=text/html:The Chamber is pleased to announce that Firewater Kitchen &amp\; Bar will be hosting our May Business After Hours on Thursday\, May 12th from 5:30 pm - 7:30 pm.&nbsp\;<br />\n<br />\nFirewater Kitchen &amp\; Bar is a premier destination for fresh-made craft cocktails and craft beers and exceptional dining. With its rustic emphasis on natural wood\, stone\, fireplaces and expansive views\, Firewater offers you great food\, a custom drink menu and exceptional service in a relaxed and contemporary atmosphere.<br />\n<br />\nFirewater joins Ace&rsquo\;s Run\, Brenda&rsquo\;s Pizzeria and Trader&rsquo\;s Coffee House\, a locally owned and operated family of restaurants\, as your new neighborhood hangout.&nbsp\;<br />\n<br />\nEnjoy delicious food and drinks as you mingle with fellow Chamber members and Chamber staff at our monthly networking events. Don&#39\;t forget your business card to enter to win prizes.
LOCATION:Firewater Kitchen & Bar 20128 Garrett Highway Oakland\, MD 21550
UID:e.847.37141
SEQUENCE:3
DTSTAMP:20260420T153809Z
URL:https://members.visitdeepcreek.com/events/details/may-business-after-hours-2022-37141
END:VEVENT

END:VCALENDAR
