BEGIN:VCALENDAR
VERSION:2.0
PRODID:-//ChamberMaster//Event Calendar 2.0//EN
METHOD:PUBLISH
X-PUBLISHED-TTL:P3D
REFRESH-INTERVAL:P3D
CALSCALE:GREGORIAN
BEGIN:VEVENT
DTSTART:20220112T160000Z
DTEND:20220112T164500Z
X-MICROSOFT-CDO-ALLDAYEVENT:FALSE
SUMMARY:Marketing Roundtable: Upcoming Promotions
DESCRIPTION:Chamber members are invited to this virtual event to learn more about upcoming Chamber promotions for in-county members including Military March\, Spring 2022 3-2-1 Lodging & Activity Promotion and the 97th Anniversary of Deep Creek Lake. Learn how your business can take part!
X-ALT-DESC;FMTTYPE=text/html:Chamber members are invited to this virtual event to learn more about upcoming Chamber promotions for in-county members including Military March\, Spring 2022 3-2-1 Lodging &amp\; Activity Promotion and the 97th Anniversary of Deep Creek Lake. Learn how your business can take part!&nbsp\;
LOCATION:Virtual event via Zoom
UID:e.847.36719
SEQUENCE:3
DTSTAMP:20260420T220615Z
URL:https://members.visitdeepcreek.com/events/details/marketing-roundtable-upcoming-promotions-36719
END:VEVENT

END:VCALENDAR
