BEGIN:VCALENDAR
VERSION:2.0
PRODID:-//ChamberMaster//Event Calendar 2.0//EN
METHOD:PUBLISH
X-PUBLISHED-TTL:P3D
REFRESH-INTERVAL:P3D
CALSCALE:GREGORIAN
BEGIN:VEVENT
DTSTART:20210623T150000Z
DTEND:20210623T160000Z
X-MICROSOFT-CDO-ALLDAYEVENT:FALSE
SUMMARY:Marketing Roundtable: Town of Mountain Lake Park Updates & Victorian Chautauqua
DESCRIPTION:The Garrett County Chamber of Commerce invites all Chamber members to the next Marketing Roundtable event which will feature updates on the town of Mountain Lake Park. The meeting is Wednesday\, June 23 from 11 am   12 pm in the Chamber conference room. \n\n\n\nThis is a terrific opportunity for area marketing professionals and Chamber member businesses to get an update on happenings in Mountain Lake Park so you can spread this information to your visitors and customers. You'll hear from Mayor Don Sincell who will provide an update on the town and learn more about the new Victorian Chautauqua event the town will host July 10 - 11\, 2021.  \n\n\n\nThe event is free to attend but is limited to Chamber members and registration is required as space is limited. The meeting will be held in the Chamber's conference room at the Visitors Center. To register to attend\, click Register Now above.
X-ALT-DESC;FMTTYPE=text/html:The Garrett County Chamber of Commerce invites all Chamber members to the next Marketing Roundtable event which will feature updates on the town of Mountain Lake Park. The meeting is Wednesday\, June 23 from 11 am &ndash\; 12 pm in the Chamber conference room.&nbsp\;<br />\n<br />\nThis is a terrific opportunity for area marketing professionals and&nbsp\;Chamber member businesses&nbsp\;to get an update on happenings in Mountain Lake Park so you can spread this information to your visitors and customers. You&#39\;ll hear from&nbsp\;Mayor Don Sincell who will provide an update on the town and learn more about the new Victorian Chautauqua event the town will host July 10 - 11\, 2021. &nbsp\;<br />\n<br />\nThe event is free to attend but is limited to Chamber members and registration is required as space is limited. The meeting will be held in the Chamber&rsquo\;s conference room at the Visitors Center. To register to attend\,&nbsp\;click Register Now above.&nbsp\;
LOCATION:Chamber Conference Room 15 Visitors Center Drive McHenry\, MD 21541
UID:e.847.36161
SEQUENCE:3
DTSTAMP:20260421T082419Z
URL:https://members.visitdeepcreek.com/events/details/marketing-roundtable-town-of-mountain-lake-park-updates-victorian-chautauqua-36161
END:VEVENT

END:VCALENDAR
