BEGIN:VCALENDAR
VERSION:2.0
PRODID:-//ChamberMaster//Event Calendar 2.0//EN
METHOD:PUBLISH
X-PUBLISHED-TTL:P3D
REFRESH-INTERVAL:P3D
CALSCALE:GREGORIAN
BEGIN:VEVENT
DTSTART:20220510T150000Z
DTEND:20220510T160000Z
X-MICROSOFT-CDO-ALLDAYEVENT:FALSE
SUMMARY:Marketing Roundtable: Performing Arts Center Update
DESCRIPTION:The Garrett County Chamber of Commerce invites all Chamber members to the next Marketing Roundtable which will feature updates about the new Garrett County Performing Arts Center. The meeting is Tuesday\, May 10 from 11 am   12 pm in the Chamber conference room. You can attend in-person or virtually via Zoom. This is a terrific opportunity for area marketing professionals and Chamber member businesses to learn more about the Performing Arts Center (PAC)\, slated to open this year.\n\n\n\nThe event is free to attend but is limited to Chamber members and registration is required as space is limited. The meeting will be held in the Chamber's conference room at the Visitors Center. To register to attend\, click Register Now on the above left.
X-ALT-DESC;FMTTYPE=text/html:The Garrett County Chamber of Commerce invites all Chamber members to the next Marketing Roundtable which will feature updates about the new Garrett County Performing Arts Center. The meeting is Tuesday\, May 10 from 11 am &ndash\; 12 pm in the Chamber conference room. You can attend in-person or virtually via Zoom. This is a terrific opportunity for area marketing professionals and Chamber member businesses to learn more about the Performing Arts Center (PAC)\, slated to open this year.<br />\n<br />\nThe event is free to attend but is limited to Chamber members and registration is required as space is limited. The meeting will be held in the Chamber&#39\;s conference room at the Visitors Center. To register to attend\, click Register Now on the above left.&nbsp\;
LOCATION:Chamber Conference Room 15 Visitors Center Drive McHenry\, MD 21541 or virtual event via Zoom\; must register to receive Zoom link.
UID:e.847.37137
SEQUENCE:3
DTSTAMP:20260420T141349Z
URL:https://members.visitdeepcreek.com/events/details/marketing-roundtable-performing-arts-center-update-37137
END:VEVENT

END:VCALENDAR
