BEGIN:VCALENDAR
VERSION:2.0
PRODID:-//ChamberMaster//Event Calendar 2.0//EN
METHOD:PUBLISH
X-PUBLISHED-TTL:P3D
REFRESH-INTERVAL:P3D
CALSCALE:GREGORIAN
BEGIN:VEVENT
DTSTART:20220914T150000Z
DTEND:20220914T160000Z
X-MICROSOFT-CDO-ALLDAYEVENT:FALSE
SUMMARY:Marketing Roundtable: Garrett County Arts Council Update
DESCRIPTION:The Garrett County Chamber of Commerce invites all Chamber members to the next Marketing Roundtable which will feature updates from Garrett County Arts Council Executive Director Kathy Beachler regarding Arts Council programming and events. This is a terrific opportunity for area marketing professionals and Chamber member businesses to learn more about the arts in Garrett County.\n\n \n\nIf you cannot attend in person\, you can attend virtually via Zoom. Simply register at the above right and the zoom link will be sent to you.
X-ALT-DESC;FMTTYPE=text/html:<div>The Garrett County Chamber of Commerce invites all Chamber members to the next Marketing Roundtable which will feature updates from Garrett County Arts Council Executive Director Kathy Beachler regarding Arts Council programming and events. This is a terrific opportunity for area marketing professionals and Chamber member businesses to learn more about the arts in Garrett County.</div>\n\n<div>&nbsp\;</div>\n\n<div>If you cannot attend in person\, you can attend virtually via Zoom. Simply register at the above right and the zoom link will be sent to you.&nbsp\;</div>\n
LOCATION:Conference Room at the Garrett County Chamber of Commerce & Visitors Center located at 15 Visitors Center Drive McHenry\, MD 21541
UID:e.847.37937
SEQUENCE:3
DTSTAMP:20260420T093153Z
URL:https://members.visitdeepcreek.com/events/details/marketing-roundtable-garrett-county-arts-council-update-37937
END:VEVENT

END:VCALENDAR
