BEGIN:VCALENDAR
VERSION:2.0
PRODID:-//ChamberMaster//Event Calendar 2.0//EN
METHOD:PUBLISH
X-PUBLISHED-TTL:P3D
REFRESH-INTERVAL:P3D
CALSCALE:GREGORIAN
BEGIN:VEVENT
DTSTART:20220309T160000Z
DTEND:20220309T170000Z
X-MICROSOFT-CDO-ALLDAYEVENT:FALSE
SUMMARY:Marketing Roundtable: 150th Anniversary of Garrett County
DESCRIPTION:The Garrett County Chamber of Commerce invites all Chamber members to the next Marketing Roundtable on Wednesday\, March 9 from 11 am   12 pm to learn more about Garrett County's 150th Anniversary Celebration. Hear from Sarah Myers\, Communications Coordinator with Garrett County Government\, to learn about their September 17 150th Anniversary event and how to collect each town's commemorative coins at special events throughout County during the year. \n\n\n\nThis event may be attended in person in the Chamber conference room at 15 Visitors Center Drive in McHenry or virtually via Zoom. If signing up to attend virtually\, a Zoom link will be sent to you upon your successful registration.
X-ALT-DESC;FMTTYPE=text/html:The Garrett County Chamber of Commerce invites all Chamber members to the next Marketing Roundtable on Wednesday\, March 9 from 11 am &ndash\; 12 pm to learn more about Garrett County&rsquo\;s 150th Anniversary Celebration. Hear from Sarah Myers\, Communications Coordinator with Garrett County Government\, to learn about their September 17 150th Anniversary event and how to collect each town&#39\;s commemorative coins at special events throughout County during the year.&nbsp\;<br />\n<br />\nThis event may be attended in person in the Chamber conference room at 15 Visitors Center Drive in McHenry or virtually via Zoom.&nbsp\;If signing up to attend virtually\, a Zoom link will be sent to you upon your successful registration.&nbsp\;
LOCATION:In person in the Chamber conference room at 15 Visitors Center Drive\, McHenry or virtual event via Zoom.
UID:e.847.36787
SEQUENCE:3
DTSTAMP:20260420T172636Z
URL:https://members.visitdeepcreek.com/events/details/marketing-roundtable-150th-anniversary-of-garrett-county-36787
END:VEVENT

END:VCALENDAR
