BEGIN:VCALENDAR
VERSION:2.0
PRODID:-//ChamberMaster//Event Calendar 2.0//EN
METHOD:PUBLISH
X-PUBLISHED-TTL:P3D
REFRESH-INTERVAL:P3D
CALSCALE:GREGORIAN
BEGIN:VEVENT
DTSTART;VALUE=DATE:20220604
DTEND;VALUE=DATE:20220605
TRANSP:TRANSPARENT
X-MICROSOFT-CDO-ALLDAYEVENT:TRUE
SUMMARY:Marine Corps League 8th Annual Golf Tournament
DESCRIPTION:Garrett County Detachment 1234 of the Marine Corps League is proud to host the 8th Annual Charity Golf Tournament! It benefits Toys for Tots\, Cindy's Fund\, Meals on Wheels America\, Project Healing Waters Fly Fishing\, and Marine Raider Foundations. \n\n\n\nPrizes\n\n1st\, 2nd\, 3rd Net / 1st & 2nd Gross\n\n\n\nHole Sponsors - $100\n\nCorporate Sponsors Available - $5\,000  |  $3\,000  |  $1\,000\n\n\n\nContact Info\n\nRob Heilig - (301) 616-5698 - robheilig1@yahoo.com\n\nJason Finch - (301) 616-6500 - golfshop@golfatoakland.com\n\n\n\nMake Checks Payable to Garrett Co. Detachment 1234\n\nMail Checks to 186 Tender Foot Drive\, Oakland\, MD 21550
X-ALT-DESC;FMTTYPE=text/html:Garrett County Detachment 1234 of the Marine Corps League is proud to host the 8th Annual Charity Golf Tournament! It benefits Toys for Tots\, Cindy&#39\;s Fund\, Meals on Wheels America\, Project Healing Waters Fly Fishing\, and Marine Raider Foundations.&nbsp\;<br />\n<br />\n<u><strong>Prizes</strong></u><br />\n1st\, 2nd\, 3rd Net / 1st &amp\; 2nd Gross<br />\n<br />\nHole Sponsors - $100<br />\nCorporate Sponsors Available - $5\,000&nbsp\; |&nbsp\; $3\,000&nbsp\; |&nbsp\; $1\,000<br />\n<br />\n<u><strong>Contact Info</strong></u><br />\nRob Heilig - (301) 616-5698 - robheilig1@yahoo.com<br />\nJason Finch - (301) 616-6500 - golfshop@golfatoakland.com<br />\n<br />\nMake Checks Payable to Garrett Co. Detachment 1234<br />\nMail Checks to 186 Tender Foot Drive\, Oakland\, MD 21550
LOCATION:Oakland Golf Club 433 N Bradley Ln Oakland\, MD 21550
UID:e.847.37144
SEQUENCE:3
DTSTAMP:20260420T123855Z
URL:https://members.visitdeepcreek.com/events/details/marine-corps-league-8th-annual-golf-tournament-37144
END:VEVENT

END:VCALENDAR
