BEGIN:VCALENDAR
VERSION:2.0
PRODID:-//ChamberMaster//Event Calendar 2.0//EN
METHOD:PUBLISH
X-PUBLISHED-TTL:P3D
REFRESH-INTERVAL:P3D
CALSCALE:GREGORIAN
BEGIN:VEVENT
DTSTART:20220310T223000Z
DTEND:20220311T003000Z
X-MICROSOFT-CDO-ALLDAYEVENT:FALSE
SUMMARY:March Business After Hours 2022
DESCRIPTION:The Chamber is pleased to announce that Garrett County Community Action's Training & Technology Center will be hosting our March Business After Hours on Thursday\, March 10th from 5:30 pm- 7:30 pm.\n\n\n\nLocated at 6500 Thayer Center (formerly Garrett Rehab Center) the Training & Technology Center offers 48 seat conference room\, 18 seat/laptop training facility with 20 seat dining area\, high speed internet\, a 75" conference tv screen\, a lectern with an instructor PC\, video conferencing featuring presenter and audience cameras\, and a kitchen area. This clean facility at reasonable rates is perfect for large meetings\, industrial training\, and video conferencing. \n\n\n\nPLEASE NOTE: This event is being hosted at the Training & Technology Center\, NOT the Community Action Center on Center Street. \n\n\n\nEnjoy delicious food and drinks as you mingle with fellow Chamber members and Chamber staff at our monthly networking events. Don't forget your business card to enter to win prizes.
X-ALT-DESC;FMTTYPE=text/html:<span style="font-size:14px\;"><span style="font-family:arial\;">The Chamber is pleased to announce that Garrett County Community Action&#39\;s Training &amp\; Technology Center will be hosting our March Business After Hours on Thursday\, March 10th&nbsp\;from 5:30 pm- 7:30 pm.</span></span><br />\n<br />\nLocated at 6500 Thayer Center (formerly Garrett Rehab Center) the Training &amp\; Technology Center offers 48 seat conference room\, 18 seat/laptop training facility with 20 seat dining area\, high speed internet\, a 75&quot\; conference tv screen\, a lectern with an instructor PC\, video conferencing featuring presenter and audience cameras\, and a kitchen area. This clean facility at reasonable rates is perfect for large meetings\, industrial training\, and video conferencing.&nbsp\;<br />\n<br />\n<span style="font-size:14px\;"><span style="font-family:arial\;"><span style="color:#FF0000\;"><strong>PLEASE NOTE: This event is being hosted at the Training &amp\; Technology Center\, NOT the Community Action Center on Center Street.&nbsp\;</strong></span><br />\n<br />\nEnjoy delicious food and drinks as you mingle with fellow Chamber members and Chamber staff at our monthly networking events. Don&#39\;t forget your business card to enter to win prizes.</span></span>
LOCATION:Training & Technology Center 6500 Thayer Center\, Suite 1 Oakland\, MD 21550
UID:e.847.36750
SEQUENCE:3
DTSTAMP:20260420T184421Z
URL:https://members.visitdeepcreek.com/events/details/march-business-after-hours-2022-36750
END:VEVENT

END:VCALENDAR
