BEGIN:VCALENDAR
VERSION:2.0
PRODID:-//ChamberMaster//Event Calendar 2.0//EN
METHOD:PUBLISH
X-PUBLISHED-TTL:P3D
REFRESH-INTERVAL:P3D
CALSCALE:GREGORIAN
BEGIN:VEVENT
DTSTART:20220809T130000Z
DTEND:20220810T170000Z
X-MICROSOFT-CDO-ALLDAYEVENT:FALSE
SUMMARY:Maker Camp
DESCRIPTION:Students will join the makerspace phenomenon whehre kids gather to create\, tinker and explore new concepts using cool materials! In this highly interactive camp\, the kids will go on three maker "missions" to explore science concepts. For students entering grades 4-6.
X-ALT-DESC;FMTTYPE=text/html:Students will join the makerspace phenomenon whehre kids gather to create\, tinker and explore new concepts using cool materials! In this highly interactive camp\, the kids will go on three maker &quot\;missions&quot\; to explore science concepts. For students entering grades 4-6.
LOCATION:Sylvan of Garrett County 23789 Garrett Hwy\, Suite 3 McHenry\, MD 21541
UID:e.847.37234
SEQUENCE:3
DTSTAMP:20260420T092827Z
URL:https://members.visitdeepcreek.com/events/details/maker-camp-37234
END:VEVENT

END:VCALENDAR
