BEGIN:VCALENDAR
VERSION:2.0
PRODID:-//ChamberMaster//Event Calendar 2.0//EN
METHOD:PUBLISH
X-PUBLISHED-TTL:P3D
REFRESH-INTERVAL:P3D
CALSCALE:GREGORIAN
BEGIN:VEVENT
DTSTART:20210818T220000Z
DTEND:20210819T000000Z
X-MICROSOFT-CDO-ALLDAYEVENT:FALSE
SUMMARY:Make a Sunflower Mosaic
DESCRIPTION:Join Deep Creek Pottery for an evening of creating a beautiful\, one of a kind sunflower mosaic!  We will grout them at the end of the class and you take them with you! The cost is $45.00 per person. Bring a snack and a beverage of choice!  Weather permitting we may be outside under a canopy! \n\n\n\nCALL FOR AVAILABILITY\n\n301-501-1619
X-ALT-DESC;FMTTYPE=text/html:&nbsp\; Join Deep Creek Pottery for an evening of creating a beautiful\, one of a kind sunflower mosaic!&nbsp\; We will grout them at the end of the class and you take them with you! The cost is $45.00 per person. Bring a snack and a beverage of choice!&nbsp\; Weather permitting we may be outside under a canopy!&nbsp\;<br />\n<br />\nCALL FOR AVAILABILITY<br />\n301-501-1619
LOCATION:Deep Creek Pottery 662 Laurel Ridge Road McHenry\, MD 21541
UID:e.847.36611
SEQUENCE:3
DTSTAMP:20260421T045259Z
URL:https://members.visitdeepcreek.com/events/details/make-a-sunflower-mosaic-36611
END:VEVENT

END:VCALENDAR
