BEGIN:VCALENDAR
VERSION:2.0
PRODID:-//ChamberMaster//Event Calendar 2.0//EN
METHOD:PUBLISH
X-PUBLISHED-TTL:P3D
REFRESH-INTERVAL:P3D
CALSCALE:GREGORIAN
BEGIN:VEVENT
DTSTART:20220315T160000Z
DTEND:20220315T170000Z
X-MICROSOFT-CDO-ALLDAYEVENT:FALSE
SUMMARY:LUNCH N LEARN: Social Media Strategy 101 - How to Grow Your Business Within Your Budget
DESCRIPTION:The Garrett County Chamber of Commerce's inaugural LUNCH N LEARN. Enjoy a light lunch while you learn from an industry professional. \n\n\n\nDoes Facebook\, Instagram and YouTube make you feel overwhelmed (and maybe a little ancient)? Are you tired of customers asking you if you're on social media? Would you like to reach new potential customers\, but don't know where to start? Then this talk is for you. Kendall will teach you some do's\, don'ts\, and inexpensive tips to grow your social media presence\, and your business. This event is sponsored by Oakland Oil & Propane and Taylor-Made Deep Creek Vacations & Sales. \n\n\n\nM. Kendall Ludwig\, president and principal designer of CurlyRed\, believes in good design for everyone. She began her company\, CurlyRed\, in Baltimore in 2007 with the desire to create usable art. Over the past 15 years\, Kendall has provided creative and timeless branding\, print and web solutions for companies and non-profits across the country (and even has a few international clients!). \n\n\n\nIn 2011\, CurlyRed was officially certified as a MBE/WBE business by the State of Maryland. CurlyRed is a Woman Owned Small Business (WOSB) and a Historically Underutilized Business Zone (HUBZone) business by the Small Business Administration (SBA). In 2016\, Kendall and husband/CurlyRed vice-president Mark relocated to historic Mountain Lake Park in Garrett County\, MD with their two daughters. In 2020\, CurlyRed opened an office in downtown Oakland. Last year\, Kendall was named one of The Daily Record's Leading Women and is proud to currently serve as the president of the Garrett County Arts Council.
X-ALT-DESC;FMTTYPE=text/html:<strong>The Garrett County Chamber of Commerce&#39\;s inaugural LUNCH N LEARN. Enjoy a light lunch while you learn from an industry professional.&nbsp\;</strong><br />\n<br />\nDoes Facebook\, Instagram and YouTube make you feel overwhelmed (and maybe a little ancient)? Are you tired of customers asking you if you&#39\;re on social media? Would you like to reach new potential customers\, but don&#39\;t know where to start? Then this talk is for you. Kendall will teach you some do&#39\;s\, don&#39\;ts\, and inexpensive tips to grow your social media presence\, and your business. This event is sponsored by <a href="https://www.visitdeepcreek.com/list/member/oakland-oil-propane-369">Oakland Oil &amp\; Propane</a> and&nbsp\;<a href="https://www.visitdeepcreek.com/list/member/taylor-made-deep-creek-vacations-sales-293">Taylor-Made Deep Creek Vacations &amp\; Sales</a>.&nbsp\;<br />\n<br />\nM. Kendall Ludwig\, president and principal designer of CurlyRed\, believes in good design for everyone. She began her company\, CurlyRed\, in Baltimore in 2007 with the desire to create usable art. Over the past 15 years\, Kendall has provided creative and timeless branding\, print and web solutions for companies and non-profits across the country (and even has a few international clients!).&nbsp\;<br />\n<br />\nIn 2011\, CurlyRed was officially certified as a MBE/WBE business by the State of Maryland. CurlyRed is a Woman Owned Small Business (WOSB) and a Historically Underutilized Business Zone (HUBZone) business by the Small Business Administration (SBA). In 2016\, Kendall and husband/CurlyRed vice-president Mark relocated to historic Mountain Lake Park in Garrett County\, MD with their two daughters. In 2020\, CurlyRed opened an office in downtown Oakland. Last year\, Kendall was named one of The Daily Record&#39\;s Leading Women and is proud to currently serve as the president of the Garrett County Arts Council.
LOCATION:Visitors Center Conference Room 15 Visitors Center Drive McHenry\, MD 21541
UID:e.847.36771
SEQUENCE:3
DTSTAMP:20260420T185327Z
URL:https://members.visitdeepcreek.com/events/details/lunch-n-learn-social-media-strategy-101-how-to-grow-your-business-within-your-budget-36771
END:VEVENT

END:VCALENDAR
