BEGIN:VCALENDAR
VERSION:2.0
PRODID:-//ChamberMaster//Event Calendar 2.0//EN
METHOD:PUBLISH
X-PUBLISHED-TTL:P3D
REFRESH-INTERVAL:P3D
CALSCALE:GREGORIAN
BEGIN:VEVENT
DTSTART:20220920T160000Z
DTEND:20220920T170000Z
X-MICROSOFT-CDO-ALLDAYEVENT:FALSE
SUMMARY:LUNCH N LEARN: Principals of Preserving Wealth
DESCRIPTION:Join us for our Lunch and Learn Seminar. The topic of the seminar is Principals of Preserving Wealth. This session will be led by D. Preston Sharps\, Investment Executive at First United Investment Services.
X-ALT-DESC;FMTTYPE=text/html:Join us for our Lunch and Learn Seminar. The topic of the seminar is Principals of Preserving Wealth. This session will be led by D. Preston Sharps\, Investment Executive at First United Investment Services.&nbsp\;
LOCATION:Training & Technology Center 6500 Thayer Center Suite 1 Oakland\, MD 21550
UID:e.847.37914
SEQUENCE:3
DTSTAMP:20260420T110608Z
URL:https://members.visitdeepcreek.com/events/details/lunch-n-learn-principals-of-preserving-wealth-37914
END:VEVENT

END:VCALENDAR
