BEGIN:VCALENDAR
VERSION:2.0
PRODID:-//ChamberMaster//Event Calendar 2.0//EN
METHOD:PUBLISH
X-PUBLISHED-TTL:P3D
REFRESH-INTERVAL:P3D
CALSCALE:GREGORIAN
BEGIN:VEVENT
DTSTART:20220926T233000Z
DTEND:20220927T003000Z
X-MICROSOFT-CDO-ALLDAYEVENT:FALSE
SUMMARY:Loretta Hummel & Country Grass
DESCRIPTION:"Loretta Hummel & Country Grass"\n\nMonday Sept. 26\, 2022 - 7:30 PM\n\nCountry Gospel & Bluegrass performance\, multi-award winner from the Country Gospel Music Assoc\, Eastern Division. Free & open to the public.  Sponsored by the Springs Historical Society.  1711 Springs Rd.\, Springs\, PA - 814-442-4594  www.springspa.org & Facebook\n\n\n\n**Out-of-County Regional Event**
X-ALT-DESC;FMTTYPE=text/html:<div style="text-align:start">&quot\;Loretta Hummel &amp\; Country Grass&quot\;</div>\n\n<div style="text-align:start">Monday Sept. 26\, 2022 - 7:30 PM</div>\n\n<div style="text-align:start">Country Gospel &amp\; Bluegrass performance\, multi-award winner from the Country Gospel Music Assoc\, Eastern Division.&nbsp\;Free &amp\; open to the public.&nbsp\; Sponsored by the Springs Historical Society.&nbsp\; 1711 Springs Rd.\, Springs\, PA - 814-442-4594&nbsp\;&nbsp\;<a href="http://www.springspa.org/" rel="nofollow noopener noreferrer" style="text-decoration: underline\; color: blue\; cursor: pointer\;" target="_blank">www.springspa.org</a>&nbsp\;&amp\; Facebook<br />\n<br />\n<strong style="color: rgb(255\, 0\, 0)\; font-family: sans-serif\, Arial\, Verdana\, &quot\;Trebuchet MS&quot\;\; font-size: 13px\; background-color: rgb(255\, 255\, 255)\;">**Out-of-County Regional Event**</strong></div>\n
LOCATION:Folk Meeting House 1711 Springs Rd.\, Springs\, PA 15562
UID:e.847.37103
SEQUENCE:3
DTSTAMP:20260420T075822Z
URL:https://members.visitdeepcreek.com/events/details/loretta-hummel-37103
END:VEVENT

END:VCALENDAR
