BEGIN:VCALENDAR
VERSION:2.0
PRODID:-//ChamberMaster//Event Calendar 2.0//EN
METHOD:PUBLISH
X-PUBLISHED-TTL:P3D
REFRESH-INTERVAL:P3D
CALSCALE:GREGORIAN
BEGIN:VEVENT
DTSTART:20221024T233000Z
DTEND:20221025T003000Z
X-MICROSOFT-CDO-ALLDAYEVENT:FALSE
SUMMARY:Long Rifles
DESCRIPTION:Mon Oct. 24\, 2022  7:30 pm  Doug Plance presents early history of the long rifle as well as interesting information about long rifles.\n\n1711 Springs Rd.\, Springs\, PA 15562\n\n814-442-4594\n\nwww.springspa.org'\n\n\n\n**Out-of-County Regional Event**
X-ALT-DESC;FMTTYPE=text/html:Mon Oct. 24\, 2022&nbsp\; 7:30 pm&nbsp\; Doug Plance presents early history of the long rifle as well as interesting information about long rifles.<br />\n1711 Springs Rd.\, Springs\, PA 15562<br />\n814-442-4594<br />\nwww.springspa.org&#39\;<br />\n<br />\n<span style="color:#FF0000\;"><strong>**Out-of-County Regional Event**</strong></span><br />\n&nbsp\;
LOCATION:1711 Springs Rd.\, Springs\, PA 15562
UID:e.847.37855
SEQUENCE:3
DTSTAMP:20260420T060903Z
URL:https://members.visitdeepcreek.com/events/details/long-rifles-37855
END:VEVENT

END:VCALENDAR
