BEGIN:VCALENDAR
VERSION:2.0
PRODID:-//ChamberMaster//Event Calendar 2.0//EN
METHOD:PUBLISH
X-PUBLISHED-TTL:P3D
REFRESH-INTERVAL:P3D
CALSCALE:GREGORIAN
BEGIN:VEVENT
DTSTART:20220723T160000Z
DTEND:20220723T190000Z
X-MICROSOFT-CDO-ALLDAYEVENT:FALSE
SUMMARY:LIVE Music Lunch!!
DESCRIPTION:The Vagabond Taproom/Shoofly Java host local (and sometimes not so local) musicians every Wednesday and Saturday for lunch from Noon to 3 pm.  Visit the Mountain Fresh Farmers Market in the morning with your Shoofly coffee drink in hand\, visit the beautiful shops of Oakland and grab lunch at the Vagabond with some LIVE Music!
X-ALT-DESC;FMTTYPE=text/html:The Vagabond Taproom/Shoofly Java host local (and sometimes not so local) musicians every Wednesday and Saturday for lunch from Noon to 3 pm.&nbsp\; Visit the Mountain Fresh Farmers Market in the morning with your Shoofly coffee drink in hand\, visit the beautiful shops of Oakland and grab lunch at the Vagabond with some LIVE Music!
LOCATION:The Vagabond Taproom/ Shoofly Java
UID:e.847.37791
SEQUENCE:3
DTSTAMP:20260420T112006Z
URL:https://members.visitdeepcreek.com/events/details/live-music-lunch-07-23-2022-37791
END:VEVENT

END:VCALENDAR
