BEGIN:VCALENDAR
VERSION:2.0
PRODID:-//ChamberMaster//Event Calendar 2.0//EN
METHOD:PUBLISH
X-PUBLISHED-TTL:P3D
REFRESH-INTERVAL:P3D
CALSCALE:GREGORIAN
BEGIN:VEVENT
DTSTART:20220501T170000Z
DTEND:20220501T180000Z
X-MICROSOFT-CDO-ALLDAYEVENT:FALSE
SUMMARY:Little Crossings Pantry Wine Tasting: Rosés
DESCRIPTION:May is for Ros ! Explore a trio of fresh\, fruity\, and floral ros s\, alongside light accompaniments at this fun and educational seated tasting. Guests must be 21 years old to participate.
X-ALT-DESC;FMTTYPE=text/html:<div>\n<p>May is for Ros&eacute\;! Explore a trio of fresh\, fruity\, and floral ros&eacute\;s\, alongside light accompaniments at this fun and educational seated tasting. <em>Guests must be 21 years old to participate.</em></p>\n</div>\n
LOCATION:Little Crossings Pantry 146 Casselman Rd. Grantsville\, MD 21536
UID:e.847.37142
SEQUENCE:3
DTSTAMP:20260420T141434Z
URL:https://members.visitdeepcreek.com/events/details/little-crossings-pantry-wine-tasting-ros&#233;s-37142
END:VEVENT

END:VCALENDAR
