BEGIN:VCALENDAR
VERSION:2.0
PRODID:-//ChamberMaster//Event Calendar 2.0//EN
METHOD:PUBLISH
X-PUBLISHED-TTL:P3D
REFRESH-INTERVAL:P3D
CALSCALE:GREGORIAN
BEGIN:VEVENT
DTSTART:20220612T170000Z
DTEND:20220612T180000Z
X-MICROSOFT-CDO-ALLDAYEVENT:FALSE
SUMMARY:Little Crossings Pantry Wine Tasting
DESCRIPTION:Fronterra Resources beverage director Emily Edwards will explore a trio of sparkling wines at this seated tasting conversation. We'll taste and compare cava\, champagne\, and American sparkling wine. Guests must be 21 years old to participate\, $25 plus tax\, advance tickets required.
X-ALT-DESC;FMTTYPE=text/html:<div style="margin-left:auto\; margin-right:auto">\n<div>\n<p>Fronterra Resources beverage director Emily Edwards will explore a trio of sparkling wines at this seated tasting conversation.&nbsp\;We&rsquo\;ll taste and compare cava\, champagne\, and American&nbsp\;sparkling&nbsp\;wine.&nbsp\;<em>Guests must be 21 years old to participate\, $25 plus tax\, advance tickets required.</em></p>\n</div>\n</div>\n
LOCATION:Little Crossings Pantry 146 Casselman Rd. Grantsville\, MD 21536
UID:e.847.37716
SEQUENCE:3
DTSTAMP:20260420T141351Z
URL:https://members.visitdeepcreek.com/events/details/little-crossings-pantry-wine-tasting-37716
END:VEVENT

END:VCALENDAR
