BEGIN:VCALENDAR
VERSION:2.0
PRODID:-//ChamberMaster//Event Calendar 2.0//EN
METHOD:PUBLISH
X-PUBLISHED-TTL:P3D
REFRESH-INTERVAL:P3D
CALSCALE:GREGORIAN
BEGIN:VEVENT
DTSTART:20210626T140000Z
DTEND:20210626T200000Z
X-MICROSOFT-CDO-ALLDAYEVENT:FALSE
SUMMARY:Little Crossings Art Market & Music
DESCRIPTION:Shop local artisan vendors at Little Crossings Pantry & The Cornucopia Cafe during Grantsville Days weekend! Live music on the backyard stage from singer-songwriter Josh "Pap" Miller\, 12PM to 2PM
X-ALT-DESC;FMTTYPE=text/html:Shop local artisan vendors&nbsp\;at Little Crossings Pantry &amp\; The Cornucopia Cafe during Grantsville Days weekend! Live music on the backyard stage from singer-songwriter Josh &quot\;Pap&quot\; Miller\, 12PM to 2PM
LOCATION:146 Casselman Rd.\, Grantsville MD 21536
UID:e.847.36567
SEQUENCE:3
DTSTAMP:20260421T083346Z
URL:https://members.visitdeepcreek.com/events/details/little-crossings-art-market-music-36567
END:VEVENT

END:VCALENDAR
