BEGIN:VCALENDAR
VERSION:2.0
PRODID:-//ChamberMaster//Event Calendar 2.0//EN
METHOD:PUBLISH
X-PUBLISHED-TTL:P3D
REFRESH-INTERVAL:P3D
CALSCALE:GREGORIAN
BEGIN:VEVENT
DTSTART:20211002T140000Z
DTEND:20211002T200000Z
X-MICROSOFT-CDO-ALLDAYEVENT:FALSE
SUMMARY:Little Crossings Art Market & Music
DESCRIPTION:Shop local artists and enjoy live Appalachian soul music at Little Crossings\, along the Casselman River in the Grantsville Arts & Entertainment District.\n\n~~~\n\nLOCAL ARTISAN VENDORS at the Shops at Little Crossings 10am-4pm\n\nLIVE MUSIC   Aristotle Jones 12pm-2pm\n\n~~~\n\nRain or shine! Vendor inquiries elizabeth@fronterragroup.com
X-ALT-DESC;FMTTYPE=text/html:<div>Shop local artists and enjoy live Appalachian soul music at Little Crossings\, along the Casselman River in the Grantsville Arts &amp\; Entertainment District.</div>\n\n<div>~~~<br />\nLOCAL ARTISAN VENDORS at the Shops at Little Crossings 10am-4pm<br />\nLIVE MUSIC &bull\; Aristotle Jones 12pm-2pm</div>\n\n<div>~~~<br />\n<em>Rain or shine! Vendor inquiries elizabeth@fronterragroup.com</em></div>\n
LOCATION:146 Casselman Rd.\, Grantsville MD 21536
UID:e.847.36657
SEQUENCE:3
DTSTAMP:20260421T013324Z
URL:https://members.visitdeepcreek.com/events/details/little-crossings-art-market-music-10-02-2021-36657
END:VEVENT

END:VCALENDAR
