BEGIN:VCALENDAR
VERSION:2.0
PRODID:-//ChamberMaster//Event Calendar 2.0//EN
METHOD:PUBLISH
X-PUBLISHED-TTL:P3D
REFRESH-INTERVAL:P3D
CALSCALE:GREGORIAN
BEGIN:VEVENT
DTSTART:20210923T130000Z
DTEND:20210923T203000Z
X-MICROSOFT-CDO-ALLDAYEVENT:FALSE
SUMMARY:Leadership Garrett County
DESCRIPTION:Leadership Garrett County is developed and managed by Garrett College in partnership with the Garrett County Department of Economic Development. The program is targeted toward identifying and developing emerging leaders from the ranks of local citizens\, non-profits\, for-profits\, and governmental/educational/health institutions. Most students are in the millennial population segment and are from a variety of career backgrounds. The program consists of monthly all-day meetings over a period of a half year where students hear from local leaders\, travel to\, and learn about local institutions\, participate in lectures and network with other emerging leaders in the class. The next co-hort is scheduled to start September 23\, 2021. The class meets monthly with the exception of December through April 7\, 2022. Class start time is 9:00 a.m. to 4:30 p.m. If you would like more information\, please contact Jodi D. McClintock at jodi.mcclintock@garrettcollege.edu.
X-ALT-DESC;FMTTYPE=text/html:Leadership Garrett County is developed and managed by Garrett College in partnership with the Garrett County Department of Economic Development. The program is targeted toward identifying and developing emerging leaders from the ranks of local citizens\, non-profits\, for-profits\, and governmental/educational/health institutions. Most students are in the millennial population segment and are from a variety of career backgrounds. The program consists of monthly all-day meetings over a period of a half year where students hear from local leaders\, travel to\, and learn about local institutions\, participate in lectures and network with other emerging leaders in the class. The next co-hort is scheduled to start September 23\, 2021. The class meets monthly with the exception of December through April 7\, 2022. Class start time is 9:00 a.m. to 4:30 p.m. If you would like more information\, please contact Jodi D. McClintock at jodi.mcclintock@garrettcollege.edu.
LOCATION:Garrett College
UID:e.847.36609
SEQUENCE:3
DTSTAMP:20260421T045437Z
URL:https://members.visitdeepcreek.com/events/details/leadership-garrett-county-09-23-2021-36609
END:VEVENT

END:VCALENDAR
