BEGIN:VCALENDAR
VERSION:2.0
PRODID:-//ChamberMaster//Event Calendar 2.0//EN
METHOD:PUBLISH
X-PUBLISHED-TTL:P3D
REFRESH-INTERVAL:P3D
CALSCALE:GREGORIAN
BEGIN:VEVENT
DTSTART:20220325T180000Z
DTEND:20220325T210000Z
X-MICROSOFT-CDO-ALLDAYEVENT:FALSE
SUMMARY:Lawyer in the Library
DESCRIPTION:Meet one-on-one with attorney to discuss civil legal issues.
X-ALT-DESC;FMTTYPE=text/html:Meet one-on-one with attorney to discuss civil legal issues.
LOCATION:Ruth Enlow Library
UID:e.847.36817
SEQUENCE:3
DTSTAMP:20260420T184713Z
URL:https://members.visitdeepcreek.com/events/details/lawyer-in-the-library-03-25-2022-36817
END:VEVENT

END:VCALENDAR
