BEGIN:VCALENDAR
VERSION:2.0
PRODID:-//ChamberMaster//Event Calendar 2.0//EN
METHOD:PUBLISH
X-PUBLISHED-TTL:P3D
REFRESH-INTERVAL:P3D
CALSCALE:GREGORIAN
BEGIN:VEVENT
DTSTART:20220724T160000Z
DTEND:20220724T190000Z
X-MICROSOFT-CDO-ALLDAYEVENT:FALSE
SUMMARY:Kelly Lynott at Firewater Kitchen & Bar
DESCRIPTION:Join us on the patio Sunday\, July 24th at 12pm for our Sunday Summer Music Series featuring live music by Kelly Lynott. Enjoy lunch and cocktails overlooking the best view of Deep Creek Lake.\n\n**Please see the host for outdoor seating.**\n\nMore about the band...\n\nA resident of Morgantown\, WV\, Kelly Lynott is a solo acoustic performer singer/songwriter\, with over a decade of experience performing in the tri state area. Known for a soulful vocal style\, performing an eclectic mix of Rock\, Blues and Pop favorites from the 60's to today! Avoustic renditions of your sing along favorites\, blasts from the pasts and smokey ballads. Kelly captures the true architecture of the original song but also makes them her own\, with a Kelly Twist! Dont miss her Sunday.
X-ALT-DESC;FMTTYPE=text/html:<div>Join us on the patio Sunday\, July 24th at 12pm for our Sunday Summer Music Series featuring live music by Kelly Lynott. Enjoy lunch and cocktails overlooking the best view of Deep Creek Lake.</div>\n\n<div>**Please see the host for outdoor seating.**</div>\n\n<div>More about the band...<br />\nA resident of Morgantown\, WV\, Kelly Lynott is a solo acoustic performer singer/songwriter\, with over a decade of experience performing in the tri state area. Known for a soulful vocal style\, performing an eclectic mix of Rock\, Blues and Pop favorites from the 60&#39\;s to today! Avoustic renditions of your sing along favorites\, blasts from the pasts and smokey ballads. Kelly captures the true architecture of the original song but also makes them her own\, with a Kelly Twist! Dont miss her Sunday.</div>\n
LOCATION:Firewater Kitchen & Bar 20128 Garrett Highway Oakland\, Maryland 21550
UID:e.847.37817
SEQUENCE:3
DTSTAMP:20260420T111909Z
URL:https://members.visitdeepcreek.com/events/details/kelly-lynott-at-firewater-kitchen-bar-37817
END:VEVENT

END:VCALENDAR
