BEGIN:VCALENDAR
VERSION:2.0
PRODID:-//ChamberMaster//Event Calendar 2.0//EN
METHOD:PUBLISH
X-PUBLISHED-TTL:P3D
REFRESH-INTERVAL:P3D
CALSCALE:GREGORIAN
BEGIN:VEVENT
DTSTART:20220609T213000Z
DTEND:20220609T233000Z
X-MICROSOFT-CDO-ALLDAYEVENT:FALSE
SUMMARY:June Business After Hours 2022
DESCRIPTION:The Chamber is pleased to announce that Deep Creek Fireplace & Outdoor Store will be hosting our June Business After Hours on Thursday\, June 9th from 5:30 pm- 7:30 pm. Jason Shaw will be providing entertainment for the evening! \n\n\n\nDeep Creek Fireplace & Outdoor Store is a Stuck Enterprise Company that is located in McHenry\, MD (the heart of the Deep Creek Lake area). With a 6\,000 square foot showroom\, it is the largest fireplace and outdoor living space in the area. Deep Creek Fireplace & Outdoor Store has over 20 burning display units that can fit anyone's budget. Between the display units and the online selection\, we offer over 30 brands. We are a full service fireplace and outdoor kitchen company that can handle everything from the site survey\, sales process\, fireplace and propane tank installation\, and service. There is also a propane filling station on site that can fill grill tanks\, 100lb cylinders\, and RV's on site.\n\n\n\nOakland Oil & Propane is a wholesale supplier and distributor of petroleum products including gasoline\, on-road diesel fuel\, off-road diesel fuel\, heating oil\, kerosene\, propane and lubricants.\n\n\n\nEnjoy delicious food and drinks as you mingle with fellow Chamber members and Chamber staff at our monthly networking events. Don't forget your business card to enter to win prizes.
X-ALT-DESC;FMTTYPE=text/html:<span style="font-size:16px\;">The Chamber is pleased to announce that Deep Creek Fireplace &amp\; Outdoor Store will be hosting our June Business After Hours on Thursday\, June 9th from 5:30 pm- 7:30 pm. Jason Shaw will be providing entertainment for the evening!&nbsp\;<br />\n<br />\nDeep Creek Fireplace &amp\; Outdoor Store is a Stuck Enterprise Company that is located in McHenry\, MD (the heart of the Deep Creek Lake area). With a 6\,000 square foot showroom\, it is the largest fireplace and outdoor living space in the area. Deep Creek Fireplace &amp\; Outdoor Store has over 20 burning display units that can fit anyone&rsquo\;s budget. Between the display units and the online selection\, we offer over 30 brands. We are a full service fireplace and outdoor kitchen company that can handle everything from the site survey\, sales process\, fireplace and propane tank installation\, and service. There is also a propane filling station on site that can fill grill tanks\, 100lb cylinders\, and RV&rsquo\;s on site.<br />\n<br />\n<em><span style="font-family:arial\;">Oakland Oil &amp\; Propane is a wholesale supplier and distributor of petroleum products including gasoline\, on-road diesel fuel\, off-road diesel fuel\, heating oil\, kerosene\, propane and lubricants.</span></em><br />\n<br />\nEnjoy delicious food and drinks as you mingle with fellow Chamber members and Chamber staff at our monthly networking events. Don&#39\;t forget your business card to enter to win prizes.</span>
LOCATION:Deep Creek Fireplace & Outdoor Store 25227 Garrett Highway McHenry\, MD 21541
UID:e.847.36745
SEQUENCE:3
DTSTAMP:20260420T141257Z
URL:https://members.visitdeepcreek.com/events/details/june-business-after-hours-2022-36745
END:VEVENT

END:VCALENDAR
