BEGIN:VCALENDAR
VERSION:2.0
PRODID:-//ChamberMaster//Event Calendar 2.0//EN
METHOD:PUBLISH
X-PUBLISHED-TTL:P3D
REFRESH-INTERVAL:P3D
CALSCALE:GREGORIAN
BEGIN:VEVENT
DTSTART:20210610T213000Z
DTEND:20210610T233000Z
X-MICROSOFT-CDO-ALLDAYEVENT:FALSE
SUMMARY:June Business After Hours 2021
DESCRIPTION:We are thrilled to announce that The Deep Creek Watershed Foundation will be hosting our June Business After Hours in person on Thursday\, June 10th from 5:30 pm- 7:30 pm. \n\n\n\nThe Deep Creek Watershed Foundation promotes and protects the water quality measures to enjoy Deep Creek Lake and surrounding waterways in the Watershed areas. They will be celebrating their fifth year of establishing the foundation and want to share the projects that they have been able to accomplish in just that short amount of time. They will also be sharing their future projects and goals.\n\n\n\nCome enjoy delicious food and drinks as you mingle with fellow Chamber members and Chamber staff at our monthly networking events. Don't forget your business card to enter to win prizes.
X-ALT-DESC;FMTTYPE=text/html:<span style="font-size:14px\;"><span style="font-family:arial\;">We are thrilled to announce that The Deep Creek Watershed Foundation will be hosting our June Business After Hours in person on Thursday\, June 10th from 5:30 pm- 7:30 pm.&nbsp\;<br />\n<br />\nThe Deep Creek Watershed Foundation promotes and protects the water quality measures to enjoy Deep Creek Lake and surrounding waterways in the Watershed areas. They will be celebrating their fifth year of establishing the foundation and want to share the projects that they have been able to accomplish in just that short amount of time. They will also be sharing their future projects and goals.<br />\n<br />\nCome enjoy delicious food and drinks as you mingle with fellow Chamber members and Chamber staff at our monthly networking events. Don&#39\;t forget your business card to enter to win prizes.</span></span>
LOCATION:Deep Creek Watershed Foundation Dutch's at Silver Tree 567 Glendale Road Oakland\, MD 21550
UID:e.847.34458
SEQUENCE:3
DTSTAMP:20260421T081442Z
URL:https://members.visitdeepcreek.com/events/details/june-business-after-hours-2021-34458
END:VEVENT

END:VCALENDAR
