BEGIN:VCALENDAR
VERSION:2.0
PRODID:-//ChamberMaster//Event Calendar 2.0//EN
METHOD:PUBLISH
X-PUBLISHED-TTL:P3D
REFRESH-INTERVAL:P3D
CALSCALE:GREGORIAN
BEGIN:VEVENT
DTSTART:20210708T213000Z
DTEND:20210708T233000Z
X-MICROSOFT-CDO-ALLDAYEVENT:FALSE
SUMMARY:July Business After Hours 2021 - Canceled
DESCRIPTION:Due to some unforeseen circumstances\, the July Business After Hours has been canceled. Be on the lookout for details regarding the August Business After Hours.\n\n\n\nThe Chamber is pleased to announce that Deep Creek Fire Place & Outdoor Store will be hosting our July Business After Hours on Thursday\, July 8th from 5:30 pm - 7:30 pm. \n\n\n\nDeep Creek Fireplace & Outdoor Store is your one stop shop for all your fireplace\, outdoor kitchen\, firepit\, and furniture needs. Featuring over 20 live burning fireplaces on display in the showroom! Deep Creek Fireplace & Outdoor store also offers new propane grill cylinders and an onsite filling station.\n\n\n\nWe invite you to bring a friend or business associate along and network with fellow Chamber members while enjoying delicious food and drinks. \n\n\n\nReminder: Due to COVID-19 restrictions and events not being able to take place\, Business After Hours tickets from FY21 will be honored for all Business After Hours events in FY22. Purple complimentary tickets with an expiration date of "7/31/2021" are valid and will be accepted at Garrett County Chamber of Commerce events until July 31\, 2022.
X-ALT-DESC;FMTTYPE=text/html:<strong>Due to some unforeseen circumstances\, the July Business After Hours has been canceled. Be on the lookout for details regarding the August Business After Hours.</strong><br />\n<br />\nThe Chamber is pleased to announce that Deep Creek Fire Place &amp\; Outdoor Store will be hosting our July Business After Hours on Thursday\, July 8th from 5:30 pm - 7:30 pm.&nbsp\;<br />\n<br />\nDeep Creek Fireplace &amp\; Outdoor Store is your one stop shop for all your fireplace\, outdoor kitchen\, firepit\, and furniture needs. Featuring over 20 live burning fireplaces on display in the showroom! Deep Creek Fireplace &amp\; Outdoor store also offers new propane grill cylinders and an onsite filling station.<br />\n<br />\nWe invite you to bring a friend or business associate along and network with fellow Chamber members while enjoying delicious food and drinks.&nbsp\;<br />\n<br />\n<strong>Reminder:</strong> Due to COVID-19 restrictions and events not being able to take place\, Business After Hours tickets from FY21 will be honored for all Business After Hours events in FY22. Purple complimentary tickets with an expiration date of &quot\;7/31/2021&quot\; are valid and will be accepted at Garrett County Chamber of Commerce events until July 31\, 2022.
LOCATION:Deep Creek Fireplace & Outdoor Store 25227 Garrett Highway McHenry\, MD 21541
UID:e.847.36160
SEQUENCE:3
DTSTAMP:20260421T081503Z
URL:https://members.visitdeepcreek.com/events/details/july-business-after-hours-2021-canceled-36160
END:VEVENT

END:VCALENDAR
