BEGIN:VCALENDAR
VERSION:2.0
PRODID:-//ChamberMaster//Event Calendar 2.0//EN
METHOD:PUBLISH
X-PUBLISHED-TTL:P3D
REFRESH-INTERVAL:P3D
CALSCALE:GREGORIAN
BEGIN:VEVENT
DTSTART:20210401T150000Z
DTEND:20210403T190000Z
X-MICROSOFT-CDO-ALLDAYEVENT:FALSE
SUMMARY:Job Fair - Vacasa Deep Creek
DESCRIPTION:Vacasa Vacation Rentals in Deep Creek is hiring Housekeepers\, Runners\, and Property Caretakers. We are hosting a job fair at the Vacasa office located at 24453 Garrett Highway McHenry\, MD 21541 on April 1st -3rd from 11am - 3pm each day. Please stop by between those times for on the spot interviews and offers! More information on our open positions and salaries can be found at vacasa.com/careers.
X-ALT-DESC;FMTTYPE=text/html:Vacasa Vacation Rentals in Deep Creek is hiring Housekeepers\, Runners\, and Property Caretakers. We are hosting a job fair at the Vacasa office located at 24453 Garrett Highway McHenry\, MD 21541 on April 1st -3rd from 11am - 3pm each day. Please stop by between those times for on the spot interviews and offers! More information on our open positions and salaries can be found at vacasa.com/careers.&nbsp\;
LOCATION:24453 Garrett Highway McHenry\, MD 21541
UID:e.847.33549
SEQUENCE:3
DTSTAMP:20260421T111832Z
URL:https://members.visitdeepcreek.com/events/details/job-fair-vacasa-deep-creek-33549
END:VEVENT

END:VCALENDAR
