BEGIN:VCALENDAR
VERSION:2.0
PRODID:-//ChamberMaster//Event Calendar 2.0//EN
METHOD:PUBLISH
X-PUBLISHED-TTL:P3D
REFRESH-INTERVAL:P3D
CALSCALE:GREGORIAN
BEGIN:VEVENT
DTSTART:20220731T170000Z
DTEND:20220731T200000Z
X-MICROSOFT-CDO-ALLDAYEVENT:FALSE
SUMMARY:Jason Shaw at Firewater Kitchen & Bar
DESCRIPTION:Join us on the patio Sunday\, July 31st at 1pm for our Sunday Summer Music Series featuring live music by @jasonshawmusic. Enjoy lunch and cocktails overlooking the best view of Deep Creek Lake.\n\n**Please see the host for outdoor seating.**\n\nMore about the band...\n\nJason Shaw Music is an acoustic blend of rock\, pop\, country and basically whatever you want to hear! Jason Shaw uses a loop pedal to create a full band sound with an acoustic feel. Visit his website at https://www.jasonshawmusic.com/home.html and be sure to follow them on social media!
X-ALT-DESC;FMTTYPE=text/html:<div>Join us on the patio Sunday\, July 31st at 1pm for our Sunday Summer Music Series featuring live music by @jasonshawmusic. Enjoy lunch and cocktails overlooking the best view of Deep Creek Lake.</div>\n\n<div>**Please see the host for outdoor seating.**</div>\n\n<div>More about the band...<br />\nJason Shaw Music is an acoustic blend of rock\, pop\, country and basically whatever you want to hear! Jason Shaw uses a loop pedal to create a full band sound with an acoustic feel. Visit his website at&nbsp\;<a class="oajrlxb2 g5ia77u1 qu0x051f esr5mh6w e9989ue4 r7d6kgcz rq0escxv nhd2j8a9 nc684nl6 p7hjln8o kvgmc6g5 cxmmr5t8 oygrvhab hcukyx3x jb3vyjys rz4wbd8a qt6c0cv9 a8nywdso i1ao9s8h esuyzwwr f1sip0of lzcic4wl gpro0wi8 py34i1dx" href="https://www.jasonshawmusic.com/home.html?fbclid=IwAR1ng0zPhoZy6KrW-Mol3VX61SjEuLXlpdNoM4ueg1kwcGHSQLLA0b6EE94" rel="nofollow noopener" style="color: var(--blue-link)\; cursor: pointer\; text-decoration: none\; outline: none\; list-style: none\; border: 0px\; padding: 0px\; margin: 0px\; touch-action: manipulation\; text-align: inherit\; display: inline\; box-sizing: border-box\; font-family: inherit\;" tabindex="0" target="_blank">https://www.jasonshawmusic.com/home.html</a>&nbsp\;and be sure to follow them on social media!</div>\n
LOCATION:Firewater Kitchen & Bar 20128 Garrett Highway Oakland\, Maryland 21550
UID:e.847.37818
SEQUENCE:3
DTSTAMP:20260420T123601Z
URL:https://members.visitdeepcreek.com/events/details/jason-shaw-at-firewater-kitchen-bar-37818
END:VEVENT

END:VCALENDAR
