BEGIN:VCALENDAR
VERSION:2.0
PRODID:-//ChamberMaster//Event Calendar 2.0//EN
METHOD:PUBLISH
X-PUBLISHED-TTL:P3D
REFRESH-INTERVAL:P3D
CALSCALE:GREGORIAN
BEGIN:VEVENT
DTSTART:20211113T230000Z
DTEND:20211114T045500Z
X-MICROSOFT-CDO-ALLDAYEVENT:FALSE
SUMMARY:IYKYK Live Music Series
DESCRIPTION:**Out-of-County Regional Event**\n\n\n\nIf you've visited Alpine Lake Resort in the past\, then you know we like our weekends full of fun\, our music loud\, and our beer ice-cold! If you know\, you know!\n\nBuy your $10 ticket (all ages) for the first-ever IYKYK live music series event on November 13\, 2021. Mahlon Kisner will start us off right and Train Wreck will play into the night! A full menu is available until 9pm and then a fryer-foods menu until midnight! Our full bar will be at your service for the entire evening.\n\n \n\nBuy your ticket online: www.AlpineLake.com/IYKYK-live-music
X-ALT-DESC;FMTTYPE=text/html:<div><strong><span style="color:#FF0000\;">**Out-of-County Regional Event**</span></strong><br />\n<br />\nIf you&rsquo\;ve visited Alpine Lake Resort in the past\, then you know we like our weekends full of fun\, our music loud\, and our beer ice-cold! If you know\, you know!</div>\n\n<div>Buy your $10 ticket (all ages) for the first-ever IYKYK live music series event on November 13\, 2021. Mahlon Kisner will start us off right and Train Wreck will play into the night! A full menu is available until 9pm and then a fryer-foods menu until midnight! Our full bar will be at your service for the entire evening.<br />\n&nbsp\;</div>\n\n<div>Buy your ticket online:&nbsp\;<a class="oajrlxb2 g5ia77u1 qu0x051f esr5mh6w e9989ue4 r7d6kgcz rq0escxv nhd2j8a9 nc684nl6 p7hjln8o kvgmc6g5 cxmmr5t8 oygrvhab hcukyx3x jb3vyjys rz4wbd8a qt6c0cv9 a8nywdso i1ao9s8h esuyzwwr f1sip0of lzcic4wl py34i1dx gpro0wi8" href="http://www.alpinelake.com/IYKYK-live-music?fbclid=IwAR3NkADKvs7--Fd7eldELBeRynJa4snybqW00ETossnGDNt69ejQuT4NSws" rel="nofollow noopener" style="color: var(--blue-link)\; cursor: pointer\; text-decoration-line: none\; outline: none\; list-style: none\; border-width: 0px\; border-style: initial\; border-color: initial\; padding: 0px\; margin: 0px\; touch-action: manipulation\; background-color: transparent\; text-align: inherit\; display: inline\; -webkit-tap-highlight-color: transparent\; box-sizing: border-box\; font-family: inherit\;" tabindex="0" target="_blank">www.AlpineLake.com/IYKYK-live-music</a>&nbsp\;</div>\n
LOCATION:Alpine Lake Resort 700 W. Alpine Drive Terra Alta\, WV 26764
UID:e.847.36673
SEQUENCE:3
DTSTAMP:20260420T234740Z
URL:https://members.visitdeepcreek.com/events/details/iykyk-live-music-series-36673
END:VEVENT

END:VCALENDAR
