BEGIN:VCALENDAR
VERSION:2.0
PRODID:-//ChamberMaster//Event Calendar 2.0//EN
METHOD:PUBLISH
X-PUBLISHED-TTL:P3D
REFRESH-INTERVAL:P3D
CALSCALE:GREGORIAN
BEGIN:VEVENT
DTSTART:20211111T210000Z
DTEND:20211112T020000Z
X-MICROSOFT-CDO-ALLDAYEVENT:FALSE
SUMMARY:Honoring Veteran's Day
DESCRIPTION:**Out-of-County Regional Event**\n\n\n\n4-9pm | NOVEMBER 11\, 2021\n\nBRING YOUR PHOTOS & SHARE YOUR STORIES\n\n\n	FREE APPETIZERS\n	30% off veterans' meals\n	TOAST TO YOU: drink specials\n\n\n \n\nHONOR LUMINARIAS (FOR DONATION)\n\nIn honor of or in memory of any veteran to be displayed outside the lodge\n\nDonations to support AMVETs\, disabled vets\, and wounded warriors
X-ALT-DESC;FMTTYPE=text/html:<p style="text-align:justify"><span style="color:#FF0000\;"><strong>**Out-of-County Regional Event**</strong></span><br />\n<br />\n4-9pm | NOVEMBER 11\, 2021</p>\n\n<p style="text-align:justify">BRING YOUR PHOTOS &amp\; SHARE YOUR STORIES</p>\n\n<ul>\n	<li>FREE APPETIZERS</li>\n	<li>30% off veterans&rsquo\; meals</li>\n	<li>TOAST TO YOU: drink specials</li>\n</ul>\n\n<p style="text-align:justify">&nbsp\;</p>\n\n<p style="text-align:justify">HONOR LUMINARIAS (FOR DONATION)</p>\n\n<p style="text-align:justify">In honor of or in memory of any veteran to be displayed outside the lodge</p>\n\n<p style="text-align:justify">Donations to support AMVETs\, disabled vets\, and wounded warriors</p>\n
LOCATION:Alpine Lake Resort 700 W. Alpine Drive Terra Atla\, WV 26764
UID:e.847.36674
SEQUENCE:3
DTSTAMP:20260420T234545Z
URL:https://members.visitdeepcreek.com/events/details/honoring-veteran-s-day-36674
END:VEVENT

END:VCALENDAR
