BEGIN:VCALENDAR
VERSION:2.0
PRODID:-//ChamberMaster//Event Calendar 2.0//EN
METHOD:PUBLISH
X-PUBLISHED-TTL:P3D
REFRESH-INTERVAL:P3D
CALSCALE:GREGORIAN
BEGIN:VEVENT
DTSTART:20220807T170000Z
DTEND:20220807T200000Z
X-MICROSOFT-CDO-ALLDAYEVENT:FALSE
SUMMARY:Heart2Heart at Firewater Kitchen & Bar
DESCRIPTION:Join us on the patio Sunday\, August 7th for our Sunday Summer Music Series featuring live music by Heart2Heart. Enjoy lunch and cocktails overlooking the best view of Deep Creek Lake.\n\n**Please see the host for outdoor seating.**\n\nMore about the band...\n\nHeart 2 Heart\, Kevin and Sydney Manning's acoustic duo\, covers songs from Carly Simon\, Keith Urban\, Tim McGraw\, Maren Morris\, Lady A\, Little Big Town\, Bob Seger and more!\n\nCheck them out here: @manningduo
X-ALT-DESC;FMTTYPE=text/html:<div>Join us on the patio Sunday\, August 7th for our Sunday Summer Music Series featuring live music by Heart2Heart. Enjoy lunch and cocktails overlooking the best view of Deep Creek Lake.</div>\n\n<div>**Please see the host for outdoor seating.**</div>\n\n<div>More about the band...<br />\nHeart 2 Heart\, Kevin and Sydney Manning&#39\;s acoustic duo\, covers songs from Carly Simon\, Keith Urban\, Tim McGraw\, Maren Morris\, Lady A\, Little Big Town\, Bob Seger and more!</div>\n\n<div>Check them out here: @manningduo</div>\n
LOCATION:Firewater Kitchen & Bar 20128 Garrett Highway Oakland\, Maryland 21550
UID:e.847.37819
SEQUENCE:3
DTSTAMP:20260420T110316Z
URL:https://members.visitdeepcreek.com/events/details/heart2heart-at-firewater-kitchen-bar-37819
END:VEVENT

END:VCALENDAR
