BEGIN:VCALENDAR
VERSION:2.0
PRODID:-//ChamberMaster//Event Calendar 2.0//EN
METHOD:PUBLISH
X-PUBLISHED-TTL:P3D
REFRESH-INTERVAL:P3D
CALSCALE:GREGORIAN
BEGIN:VEVENT
DTSTART:20220526T220000Z
DTEND:20220527T010000Z
X-MICROSOFT-CDO-ALLDAYEVENT:FALSE
SUMMARY:HAVE A HART Guest Bartender Challenge
DESCRIPTION:Join us for the Guest Bartender Challenge!\n\nYour favorite people from Railey Vacations & Real Estate will be serving you and all tips support HART for Animals\n\nGames - Prizes - Auction!
X-ALT-DESC;FMTTYPE=text/html:Join us for the Guest Bartender Challenge!<br />\nYour favorite people from Railey Vacations &amp\; Real Estate will be serving you and all tips support HART for Animals<br />\nGames - Prizes - Auction!
LOCATION:The Harbor Bar at Dutch's 567 Glendale Rd Oakland\, MD 21550
UID:e.847.36807
SEQUENCE:3
DTSTAMP:20260420T141305Z
URL:https://members.visitdeepcreek.com/events/details/have-a-hart-guest-bartender-challenge-05-26-2022-36807
END:VEVENT

END:VCALENDAR
