BEGIN:VCALENDAR
VERSION:2.0
PRODID:-//ChamberMaster//Event Calendar 2.0//EN
METHOD:PUBLISH
X-PUBLISHED-TTL:P3D
REFRESH-INTERVAL:P3D
CALSCALE:GREGORIAN
BEGIN:VEVENT
DTSTART:20220503T220000Z
DTEND:20220504T010000Z
X-MICROSOFT-CDO-ALLDAYEVENT:FALSE
SUMMARY:HAVE A HART Guest Bartender Challenge
DESCRIPTION:Join us for the 2022 Guest Bartender Challenge!\n\nJoin your favorite Taylor-Made guest bartenders!\n\nCome for the fun and support HART for Animals!\n\nGames - Prizes - Auction - Entertainment!
X-ALT-DESC;FMTTYPE=text/html:Join us for the 2022 Guest Bartender Challenge!<br />\nJoin your favorite Taylor-Made guest bartenders!<br />\nCome for the fun and support HART for Animals!<br />\nGames - Prizes - Auction - Entertainment!<br />\n<br />\n<br />\n&nbsp\;
LOCATION:Mountain State Brewing Company 6690 Sang Run Rd McHenry\, MD 21541
UID:e.847.36805
SEQUENCE:3
DTSTAMP:20260420T141304Z
URL:https://members.visitdeepcreek.com/events/details/have-a-hart-guest-bartender-challenge-05-03-2022-36805
END:VEVENT

END:VCALENDAR
