BEGIN:VCALENDAR
VERSION:2.0
PRODID:-//ChamberMaster//Event Calendar 2.0//EN
METHOD:PUBLISH
X-PUBLISHED-TTL:P3D
REFRESH-INTERVAL:P3D
CALSCALE:GREGORIAN
BEGIN:VEVENT
DTSTART:20211030T220000Z
DTEND:20211031T035500Z
X-MICROSOFT-CDO-ALLDAYEVENT:FALSE
SUMMARY:Halloween Dinner and Dance
DESCRIPTION:**Out-of-County Regional Event**\n\n\n\nEnjoy a Halloween Dinner and Dance with us here at Alpine Lake Resort!\n\nTickets are $35/each and include a dinner buffet and dance cover charge.\n\n((Couples can attend the dinner / dance for $65 or individuals can attend the dance-only for $10 or the dinner-only for $25))\n\n**A 30% hold will be placed on credit card reservations**\n\nThe planned dinner buffet is:\n\n Herb-crusted pork loin with a port wine sauce\n\n Chicken alfredo stuffed shells\n\n Sweet potato casserole\n\n Roast brussels sprouts with bacon\n\n California-blend vegetables\n\n Dinner roll\n\n Caesar salad\n\n Pumpkin roll\n\nA full cash bar is available.\n\nDJ Robbie Bishop will party with us from 8:30-12-midnight.\n\nSpecial hotel rate of $99 available!\n\nCostumes encouraged & cash prizes!\n\n*most creative\, funniest\, best couple\, & top overall costumes*\n\nRSVP by calling the ALR front desk at 304-789-2481. Dinner seating is limited.\n\nAll required COVID-19 safety measures will be followed
X-ALT-DESC;FMTTYPE=text/html:<p><strong><span style="color:#FF0000\;">**Out-of-County Regional Event**</span></strong><br />\n<br />\nEnjoy a Halloween Dinner and Dance with us here at Alpine Lake Resort!</p>\n\n<p>Tickets are $35/each and include a dinner buffet and dance cover charge.</p>\n\n<p>((Couples can attend the dinner / dance for $65 or individuals can attend the dance-only for $10 or the dinner-only for $25))</p>\n\n<p>**A 30% hold will be placed on credit card reservations**</p>\n\n<p>The planned dinner buffet is:<br />\n&ndash\;Herb-crusted pork loin with a port wine sauce<br />\n&ndash\;Chicken alfredo stuffed shells<br />\n&ndash\;Sweet potato casserole<br />\n&ndash\;Roast brussels sprouts with bacon<br />\n&ndash\;California-blend vegetables<br />\n&ndash\;Dinner roll<br />\n&ndash\;Caesar salad<br />\n&ndash\;Pumpkin roll</p>\n\n<p>A full cash bar is available.</p>\n\n<p>DJ Robbie Bishop will party with us from 8:30-12-midnight.</p>\n\n<p>Special hotel rate of $99 available!</p>\n\n<p>Costumes encouraged &amp\; cash prizes!<br />\n*most creative\, funniest\, best couple\, &amp\; top overall costumes*</p>\n\n<p>RSVP by calling the ALR front desk at 304-789-2481. Dinner seating is limited.</p>\n\n<p>All required COVID-19 safety measures will be followed</p>\n
LOCATION:Alpine Lake Resort 700 W. Alpine Drive Terra Alta\, WV 26764
UID:e.847.36672
SEQUENCE:3
DTSTAMP:20260421T013008Z
URL:https://members.visitdeepcreek.com/events/details/halloween-dinner-and-dance-36672
END:VEVENT

END:VCALENDAR
