BEGIN:VCALENDAR
VERSION:2.0
PRODID:-//ChamberMaster//Event Calendar 2.0//EN
METHOD:PUBLISH
X-PUBLISHED-TTL:P3D
REFRESH-INTERVAL:P3D
CALSCALE:GREGORIAN
BEGIN:VEVENT
DTSTART:20210702T220000Z
DTEND:20210703T010000Z
X-MICROSOFT-CDO-ALLDAYEVENT:FALSE
SUMMARY:Greg Short & Friends at Sipside This Friday!
DESCRIPTION:Kick off the 4th of July weekend right with Greg Short & Friends this Friday evening from 6 until 9P at Sipside Lounge in historic downtown Oakland. Greg\, Carla & Andy with deliver the goods as always from their vast repertoire - no cover charge. Remember that local Farm-To-Table food truck Sophie's Serendipity will be on site with an array of mouthwatering dishes from crabcakes to lamb chops to seared ahi tuna. The best part though is the unique drink offerings and our signature charcuterie board that we always offer on our fresh air 100-seat Fireside Patio or the cool inside. Doors open at 4:00.
X-ALT-DESC;FMTTYPE=text/html:Kick off the 4th of July weekend right with Greg Short &amp\; Friends this Friday evening from 6 until 9P at Sipside Lounge in historic downtown Oakland. Greg\, Carla &amp\; Andy with deliver the goods as always from their vast repertoire - no cover charge. Remember that local Farm-To-Table food truck Sophie&rsquo\;s Serendipity will be on site with an array of mouthwatering dishes from crabcakes to lamb chops to seared ahi tuna. The best part though is the unique drink offerings and our signature charcuterie board that we always offer on our fresh air 100-seat Fireside Patio or the cool inside. Doors open at 4:00.
LOCATION:119 South 2nd St. Oakland\, MD 21550
UID:e.847.36572
SEQUENCE:3
DTSTAMP:20260421T080813Z
URL:https://members.visitdeepcreek.com/events/details/greg-short-friends-at-sipside-this-friday-36572
END:VEVENT

END:VCALENDAR
