BEGIN:VCALENDAR
VERSION:2.0
PRODID:-//ChamberMaster//Event Calendar 2.0//EN
METHOD:PUBLISH
X-PUBLISHED-TTL:P3D
REFRESH-INTERVAL:P3D
CALSCALE:GREGORIAN
BEGIN:VEVENT
DTSTART;VALUE=DATE:20220518
DTEND;VALUE=DATE:20220522
TRANSP:TRANSPARENT
X-MICROSOFT-CDO-ALLDAYEVENT:TRUE
SUMMARY:Grantsville National Road Festival
DESCRIPTION:It's the Grantsville National Road Festival from May 18 - 21\, 2022.\n\n\n\nCelebrate the heritage of the Historic National Road. Town-wide yard sale\, educational presentations\, National Pike wagon train\, live music and an arts & crafts festival.
X-ALT-DESC;FMTTYPE=text/html:It&#39\;s the Grantsville National Road Festival from May 18 - 21\, 2022.<br />\n<br />\nCelebrate the heritage of the Historic National Road. Town-wide yard sale\, educational presentations\, National Pike wagon train\, live music and an arts &amp\; crafts festival.&nbsp\;
LOCATION:Grantsville on the National Road
UID:e.847.36801
SEQUENCE:3
DTSTAMP:20260420T141733Z
URL:https://members.visitdeepcreek.com/events/details/grantsville-national-road-festival-36801
END:VEVENT

END:VCALENDAR
