BEGIN:VCALENDAR
VERSION:2.0
PRODID:-//ChamberMaster//Event Calendar 2.0//EN
METHOD:PUBLISH
X-PUBLISHED-TTL:P3D
REFRESH-INTERVAL:P3D
CALSCALE:GREGORIAN
BEGIN:VEVENT
DTSTART;VALUE=DATE:20210521
DTEND;VALUE=DATE:20210523
TRANSP:TRANSPARENT
X-MICROSOFT-CDO-ALLDAYEVENT:TRUE
SUMMARY:Grantsville National Road Festival
DESCRIPTION:It's the Grantsville National Road Festival from May 21 - 22\, 2021.\n\n\n\nEvents include a bonfire and an old time jam session with the Smooth Valley Rollers behind The Cornucopia Caf  on Friday from 6 - 8 pm. Bring your chairs or blankets and enjoy the music or bring your own instrument to join in! Details at facebook.com/NationalRoadFestival/\n\n\n\nAnd don't miss the National Road & Town-Wide Yard Sale from 8 am - 1 pm on Saturday\, May 22. Purchase from sales throughout the Grantsville community. Indoor and outdoor spaces available to rent for those from out-of-town. Get details at visitgrantsville.com/about/events/\n\n\n\nSaturday from 9:45 am - 2 pm\, the Garrett County Arts Council hosts the Grantsville National Road Festival Plein Air Sketching & Journaling. Whether you are an artist or just interested in learning how to draw and paint\, this workshop is designed to help you learn from the environment. $35/person includes a watercolor sketchbook\, small round brush No. 8\, one black\, water-soluable Tombow pen and a boxed lunch from The Cornucopia Caf . Buy workshop tickets online at garrettarts.org or at The Gallery Shop at 108 S. Second Street\, Oakland\, MD 21550. Email aedistrict@visitgrantsville.com or call 301.334.6580 for more information
X-ALT-DESC;FMTTYPE=text/html:It&#39\;s the Grantsville National Road Festival from May 21 - 22\, 2021.<br />\n<br />\nEvents include a bonfire and an old time jam session with the Smooth Valley Rollers behind The Cornucopia Caf&eacute\; on Friday from 6 - 8 pm. Bring your chairs or blankets and enjoy the music or bring your own instrument to join in! Details at facebook.com/NationalRoadFestival/<br />\n<br />\nAnd don&#39\;t miss the National Road &amp\; Town-Wide Yard Sale from 8 am - 1 pm on Saturday\, May 22. Purchase from sales throughout the Grantsville community. Indoor and outdoor spaces available to rent for those from out-of-town. Get details at visitgrantsville.com/about/events/<br />\n<br />\nSaturday from 9:45 am - 2 pm\, the Garrett County Arts Council hosts the Grantsville National Road Festival Plein Air Sketching &amp\; Journaling. Whether you are an artist or just interested in learning how to draw and paint\, this workshop is designed to help you learn from the environment. $35/person includes a watercolor sketchbook\, small round brush No. 8\, one black\, water-soluable Tombow pen and a boxed lunch from The Cornucopia Caf&eacute\;. Buy workshop tickets online at garrettarts.org or at The Gallery Shop at 108 S. Second Street\, Oakland\, MD 21550. Email aedistrict@visitgrantsville.com or call 301.334.6580 for more information
LOCATION:Grantsville on the National Road
UID:e.847.34451
SEQUENCE:3
DTSTAMP:20260421T094222Z
URL:https://members.visitdeepcreek.com/events/details/grantsville-national-road-festival-34451
END:VEVENT

END:VCALENDAR
