BEGIN:VCALENDAR
VERSION:2.0
PRODID:-//ChamberMaster//Event Calendar 2.0//EN
METHOD:PUBLISH
X-PUBLISHED-TTL:P3D
REFRESH-INTERVAL:P3D
CALSCALE:GREGORIAN
BEGIN:VEVENT
DTSTART:20210623T190000Z
DTEND:20210623T210000Z
X-MICROSOFT-CDO-ALLDAYEVENT:FALSE
SUMMARY:Grand Opening and Ribbon Cutting - A Mountain Fix Boutique
DESCRIPTION:Join members of the Garrett County Chamber of Commerce and local officials\, dignitaries and friends and customers for our Grand Opening at The Fort!\n\n \n\nFestivities will begin at 3PM - more details to come but feel free to RSVP on Facebook so we know how many will be coming! \n\n\n\nfacebook.com/events/478741413352029
X-ALT-DESC;FMTTYPE=text/html:<div>Join members of the Garrett County Chamber of Commerce and local officials\, dignitaries and friends and customers for our Grand Opening at The Fort!<br />\n&nbsp\;</div>\n\n<div>Festivities will begin at 3PM - more details to come but feel free to RSVP on Facebook so we know how many will be coming!&nbsp\;<br />\n<br />\n<a href="https://www.facebook.com/events/478741413352029">facebook.com/events/478741413352029</a></div>\n
LOCATION:1550-G Deep Creek Drive\, McHenry\, MD 21541
UID:e.847.35922
SEQUENCE:3
DTSTAMP:20260421T083446Z
URL:https://members.visitdeepcreek.com/events/details/grand-opening-and-ribbon-cutting-a-mountain-fix-boutique-35922
END:VEVENT

END:VCALENDAR
