BEGIN:VCALENDAR
VERSION:2.0
PRODID:-//ChamberMaster//Event Calendar 2.0//EN
METHOD:PUBLISH
X-PUBLISHED-TTL:P3D
REFRESH-INTERVAL:P3D
CALSCALE:GREGORIAN
BEGIN:VEVENT
DTSTART:20221109T180000Z
DTEND:20221110T000000Z
X-MICROSOFT-CDO-ALLDAYEVENT:FALSE
SUMMARY:Go Bare Skincare Ribbon Cutting Ceremony and Open House
DESCRIPTION:Go Bare Skincare is celebrating its 1st Birthday! We'll kick off the day with a Ribbon Cutting Ceremony at 1pm with the Garrett County Chamber of Commerce. There will be refreshments\, door prizes\, a discount on retail products and more! Come celebrate with us!
X-ALT-DESC;FMTTYPE=text/html:Go Bare Skincare is celebrating its 1st Birthday! We&#39\;ll kick off the day with a Ribbon Cutting Ceremony at 1pm with the Garrett County Chamber of Commerce. There will be refreshments\, door prizes\, a discount on retail products and more! Come celebrate with us!
LOCATION:170 Crestview Drive Oakland\, MD 21550
UID:e.847.38425
SEQUENCE:3
DTSTAMP:20260420T044527Z
URL:https://members.visitdeepcreek.com/events/details/go-bare-skincare-ribbon-cutting-ceremony-and-open-house-38425
END:VEVENT

END:VCALENDAR
